Workbook

Sheet 1 Angiograf
B1: Beneficiar | C1: Modelul și producătorul DM | D1: Anul de fabricare a DM | E1: Cantitatea Dispozitivelor | F1: Numărul de vizite per an | G1: Numărul de vizite per An
A2: 1 | B2: IMSP INSTITUTUL DE CARDIOLOGIE | C2: IGS5 Healthcare SUA | D2: 2021 | E2: 1 | F2: 4 | G2: 4
A3: 5 | B3: IMSP INSTITUTUL DE CARDIOLOGIE | C3: Optima CL323 i GE Healthcare SUA | D3: 2014 | E3: 1 | F3: 4 | G3: 4
A4: 2.1 | B4: IMSP SPITALUL CLINIC MUNICIPAL SFANTA TREIME | C4: Trinias C12, Prod. Shimadzu, | D4: 2014 | E4: 1 | F4: 4 | G4: 4
A5: 2.2 | B5: IMSP SPITALUL CLINIC MUNICIPAL SFANTA TREIME | C5: Trinias F12, Prod. Shimadzu, | D5: 2023 | E5: 1 | F5: 2 | G5: 2
A6: 3 | B6: IMSP SPITALUL CLINIC REPUBLICAN TIMOFEI MOSNEAGA | C6: SIEMENS Artis Zee Floor | D6: 2013 | E6: 1 | F6: 4 | G6: 4
A7: 4 | B7: IMSP SPITALUL CLINIC REPUBLICAN TIMOFEI MOSNEAGA | C7: SIEMENS Artis Zee Biplane | D7: 2013 | E7: 1 | F7: 4 | G7: 4
A8: 4 | B8: IMSP SPITALUL CLINIC REPUBLICAN TIMOFEI MOSNEAGA | C8: SIEMENS Artis Zee Biplane | D8: 2024 | E8: 1 | F8: 4 | G8: 4
E9: =SUBTOTAL(109,E2:E8) -> 7 | G9: =SUBTOTAL(109,G2:G8) -> 26

Sheet 2 CT
B1: Beneficiar | C1: Dispozitivul Medical | D1: Modelul și producătorul DM | E1: Anul de fabricare a DM | F1: Cantitatea Dispozitivelor | G1: Numărul de vizite per an | H1: Numărul Total de vizite per An
A2: 6.1. | B2: IMSP CENTRUL REPUBLICAN DE DIAGNOSTICARE MEDICALA | C2: Computer Tomograf (16 siles) | D2: BrightSpeed Elite, GE HealthCare | E2: 2007 | F2: 1 | G2: 2 | H2: 2
A3: 6.2. | B3: IMSP INSTITUTUL ONCOLOGIC | C3: Computer Tomograf (16 slice) | D3: Discovery RT, GE HealthCare | E3: 2018 | F3: 1 | G3: 2 | H3: 2
A4: 6.3. | B4: IMSP SPITALUL RAIONAL CAHUL | C4: Computer Tomograf (16 siles) | D4: Optima CT 520, GE HealthCare | E4: 2019 | F4: 1 | G4: 4 | H4: 4
A5: 7 | B5: IMSP SPITALUL CLINIC BALTI | C5: Computer Tomograf (64 siles) | D5: Revolution Ascent, GE HealthCare | E5: 2023 | F5: 1 | G5: 4 | H5: 4
A6: 8.1. | B6: IMSP SPITALUL CLINIC MUNICIPAL DE COPII V IGNATENCO | C6: Computer Tomograf (80 siles) | D6: Aquilion Lightning, Canon | E6: 2022 | F6: 1 | G6: 2 | H6: 2
A7: 8.2. | B7: IMSP SPITALUL CLINIC MUNICIPAL SFANTA TREIME | C7: Computer Tomograf (80 siles) | D7: Aquilion Prime TSX-303A/AC, Prod. Toshiba Medical, Sistemul PACS | E7: 2015 | F7: 1 | G7: 4 | H7: 4
A8: 8.3. | B8: IMSP INSTITUTUL MAMEI SI COPILULUI | C8: Computer Tomograf (80 siles) | D8: Toshiba Aquilion Prime TSX-303A, Prod. Toshiba Medical | E8: 2014 | F8: 1 | G8: 4 | H8: 4
A9: 9.1. | B9: IMSP SPITALUL CLINIC MUNICIPAL SFANTUL ARHANGHEL MIHAIL | C9: Computer Tomograf (nr. de siles) | D9: Revolution EVO Gen II, GE HealthCare | E9: 2021 | F9: 1 | G9: 4 | H9: 4
A10: 9.2. | B10: IMSP CENTRUL REPUBLICAN DE DIAGNOSTICARE MEDICALA | C10: Computer Tomograf (128 siles) | D10: OPTIMA CT 660, GE HealthCare | E10: 2011 | F10: 1 | G10: 2 | H10: 2
A11: 9.3. | B11: IMSP INSTITUTUL ONCOLOGIC | C11: Computer Tomograf (128 slice) | D11: Revolution Apex Plus, GE HealthCare | E11: 2023 | F11: 1 | G11: 2 | H11: 2
A12: 11 | B12: IMSP CENTRUL REPUBLICAN DE DIAGNOSTICARE MEDICALA | C12: Computer Tomograf (256 siles) | D12: Revolution Discovery CT 256 slice-uri, GE HealthCare | E12: 2015 | F12: 1 | G12: 2 | H12: 2
A13: 10 | B13: IMSP INSTITUTUL DE CARDIOLOGIE | C13: Computer Tomograf (320 de siles) | D13: Aquilon ONE, TSX-305A , Canon | E13: 2023 | F13: 1 | G13: 4 | H13: 4
F14: =SUBTOTAL(109,'2 CT'!$F$2:$F$13) -> 12 | H14: =SUBTOTAL(109,'2 CT'!$H$2:$H$13) -> 36

Sheet 3 RMN
A1: Nr. lot | B1: Beneficiar | C1: Dispozitivul Medical | D1: Modelul și producătorul DM | E1: Anul de fabricare a DM | F1: Cantitatea Dispozitivelor | G1: Numărul de vizite per an | H1: Numărul de vizite per An
A2: 13 | B2: IMSP CENTRUL REPUBLICAN DE DIAGNOSTICARE MEDICALA | C2: Rezonanță magnetică nucleară (RMN) 1.5T | D2: OPTIMA MR 360 1.5T, GE HealthCare | E2: 2011 | F2: 1 | G2: 2 | H2: 2
A3: 12.1 | B3: IMSP INSTITUTUL ONCOLOGIC | C3: Rezonanță magnetică nucleară (RMN) 3T | D3: Vantage Galan 3T, Canon | E3: 2024 | F3: 1 | G3: 2 | H3: 2
A4: 12.2 | B4: IMSP SPITALUL CLINIC MUNICIPAL SFANTA TREIME | C4: Rezonanță magnetică nucleară (RMN) 3T | D4: SIGNA Pioneer 3T, GE Healthcare | E4: 2023 | F4: 1 | G4: 1 | H4: 1
H5: =SUBTOTAL(109,'3 RMN'!$H$2:$H$4) -> 5

Sheet 4 X-ray staționar
A1: Nr. lot | B1: Beneficiar | C1: Dispozitivul Medical | D1: Modelul și producătorul DM | E1: Anul de fabricare a DM | F1: Cantitatea Dispozitivelor | G1: Numărul de vizite per an | H1: Numărul de vizite per An
A2: 25 | B2: IMSP ASOCIATIA MEDICALA TERITORIALA BOTANICA | C2: X-ray staționar | D2: Proxima V, Visaris, Serbia | E2: 2022 | F2: 2 | G2: 4 | H2: 8
A3: 14 | B3: IMSP ASOCIATIA MEDICALA TERITORIALA BOTANICA | C3: X-ray staționar | D3: X-Frame DR 2S, Italray, Italia | E3: 2014 | F3: 1 | G3: 4 | H3: 4
A4: 14 | B4: IMSP ASOCIATIA MEDICALA TERITORIALA BOTANICA | C4: X-ray staționar | D4: X-Frame DR 2S, Italray, Italia | E4: 2022 | F4: 1 | G4: 4 | H4: 4
A5: 14 | B5: IMSP ASOCIATIA MEDICALA TERITORIALA BUIUCANI | C5: X-ray staționar | D5: X-Frame DR 2S, Italray, Italia | E5: 2023 | F5: 1 | G5: 4 | H5: 4
A6: 15.1. | B6: IMSP ASOCIATIA MEDICALA TERITORIALA BOTANICA | C6: X-ray staționar | D6: PRS 500B, Protec, Germania | E6: 2020 | F6: 1 | G6: 4 | H6: 4
A7: 15.1. | B7: IMSP ASOCIATIA MEDICALA TERITORIALA BUIUCANI | C7: X-ray staționar | D7: PRS 500B, Protec, Germania | E7: 2021 | F7: 1 | G7: 4 | H7: 4
A8: 15.1. | B8: IMSP ASOCIATIA MEDICALA TERITORIALA RASCANI | C8: X-ray staționar | D8: PRS 500B, Protec, Germania | E8: 2019 | F8: 1 | G8: 4 | H8: 4
A9: 15.1. | B9: IMSP SPITALUL CLINIC DE TRAUMATOLOGIE SI ORTOPEDIE | C9: X-ray staționar | D9: PRS 500B, Protec, Germania | F9: 1 | G9: 6 | H9: 6
A10: 15.1. | B10: IMSP SPITALUL CLINIC MUNICIPAL DE COPII NR 1 | C10: X-ray staționar | D10: PRS 500B, Protec, Germania | E10: 2023 | F10: 1 | G10: 1 | H10: 1
A11: 15.1. | B11: IMSP ASOCIATIA MEDICALA TERITORIALA CENTRU | C11: X-ray staționar | D11: PRS 500, Protec, Germania | E11: 2019 | F11: 1 | G11: 4 | H11: 4
A12: 15.2. | B12: IMSP SPITALUL RAIONAL FALESTI | C12: X-ray staționar | D12: PRS 500E, VISION V, Protec, Germania | E12: 2018 | F12: 1 | G12: 2 | H12: 2
A13: 15.2. | B13: IMSP SPITALUL RAIONAL FALESTI | C13: X-ray staționar | D13: PRS 500E, VISION V, Protec, Germania | E13: 2022 | F13: 1 | G13: 2 | H13: 2
A14: 16.1. | B14: IMSP ASOCIATIA MEDICALA TERITORIALA BUIUCANI | C14: X-ray staționar | D14: RADspeed Fit Pro (MF Type), Shimadzu, Japonia | E14: 2021 | F14: 1 | G14: 4 | H14: 4
A15: 16.2. | B15: SERVICIUL MEDICAL AL MINISTERULUI AFACERILOR INTERNE | C15: X-ray staționar | D15: RADSpeed Fit, Shimadzu, Japonia | E15: 2017 | F15: 1 | G15: 2 | H15: 2
A16: 16.3. | B16: IMSP ASOCIATIA MEDICALA TERITORIALA CENTRU | C16: X-ray staționar | D16: RADSpeed (DR Type), Shimadzu, Japonia | E16: 2015 | F16: 2 | G16: 4 | H16: 8
A17: 16.4. | B17: IMSP INSTITUTUL MAMEI SI COPILULUI | C17: X-ray staționar | D17: RADSpeed, Shimadzu, Japonia | E17: 2014 | F17: 2 | G17: 4 | H17: 8
A18: 17 | B18: IMSP SPITALUL CLINIC BALTI | C18: X-ray staționar | D18: RADspeed Pro, Shimadzu, Japonia | E18: 2022 | F18: 1 | G18: 2 | H18: 2
A19: 17 | B19: IMSP SPITALUL CLINIC MUNICIPAL SFANTUL ARHANGHEL MIHAIL | C19: X-ray staționar | D19: RADspeed Pro, Shimadzu, Japonia | E19: 2012 | F19: 1 | G19: 2 | H19: 2
A20: 18.1. | B20: IMSP SPITALUL CLINIC BALTI | C20: X-ray staționar | D20: Flexavision F3, Shimadzu, Japonia | E20: 2013 | F20: 1 | G20: 2 | H20: 2
A21: 18.1. | B21: IMSP SPITALUL CLINIC MUNICIPAL SFANTA TREIME | C21: X-ray staționar | D21: FlexaVision F3, Shimadzu, Japonia | E21: 2014 | F21: 1 | G21: 1 | H21: 1
A22: 18.2. | B22: IMSP SPITALUL CLINIC MUNICIPAL SFANTUL ARHANGHEL MIHAIL | C22: X-ray staționar | D22: FlexaVision SF, Shimadzu, Japonia | E22: 2012 | F22: 1 | G22: 4 | H22: 4
A23: 18.3. | B23: IMSP SPITALUL CLINIC MUNICIPAL GHEORGHE PALADI | C23: X-ray staționar | D23: FlexaVision HB, Shimadzu, Japonia | E23: 2011 | F23: 1 | G23: 4 | H23: 4
A24: 19.1. | B24: IMSP INSTITUTUL MAMEI SI COPILULUI | C24: X-ray staționar | D24: SonialVision G4, Shimadzu, Japonia | E24: 2014 | F24: 2 | G24: 4 | H24: 8
A25: 19.2. | B25: IMSP INSTITUTUL DE CARDIOLOGIE | C25: X-ray staționar | D25: SonialVision G4, Shimadzu, Japonia+PACS+Imprimantă | E25: 2021 | F25: 1 | G25: 4 | H25: 4
A26: 19.1. | B26: IMSP INSTITUTUL DE PNEUMOLOGIE CHIRIL DRAGANIUC | C26: X-ray staționar | D26: SonialVision G4, Shimadzu, Japonia | E26: 2015 | F26: 1 | G26: 2 | H26: 2
A27: 19.1. | B27: IMSP INSTITUTUL ONCOLOGIC | C27: X-ray staționar | D27: SonialVision G4, Shimadzu, Japonia | E27: 2024 | F27: 1 | G27: 2 | H27: 2
A28: 19.1. | B28: IMSP INSTITUTUL ONCOLOGIC | C28: X-ray staționar | D28: SonialVision G4, Shimadzu, Japonia | E28: 2014 | F28: 1 | G28: 2 | H28: 2
A29: 19.1. | B29: IMSP SPITALUL CLINIC MUNICIPAL SFANTA TREIME | C29: X-ray staționar | D29: SonialVision G4, Shimadzu, Japonia | E29: 2023 | F29: 1 | G29: 1 | H29: 1
A30: 19.3. | B30: IMSP POLICLINICA DE STAT | C30: X-ray staționar | D30: SonialVision G4 LX, Shimadzu, Japonia | E30: 2022 | F30: 1 | G30: 4 | H30: 4
A31: 19.1. | B31: SERVICIUL MEDICAL AL MINISTERULUI AFACERILOR INTERNE | C31: X-ray staționar | D31: SonialVision G4, Shimadzu, Japonia | E31: 2023 | F31: 1 | G31: 2 | H31: 2
A32: 19.1. | B32: SERVICIUL MEDICAL AL MINISTERULUI AFACERILOR INTERNE | C32: X-ray staționar | D32: SonialVision G4, Shimadzu, Japonia | E32: 2010 | F32: 1 | G32: 2 | H32: 2
A33: 31 | B33: IMSP SPITALUL CLINIC DE RECUPERARE SI INGRIJIRI CRONICE | C33: X-ray staționar | D33: HELIOS DRF, Assing, Italia | E33: 01.03.2024 | F33: 1 | G33: 4 | H33: 4
A34: 20.1. | B34: IMSP ASOCIATIA MEDICALA TERITORIALA CIOCANA | C34: X-ray staționar | D34: Brivo DR-F, GE Healthcare, SUA | E34: 2014 | F34: 1 | G34: 4 | H34: 4
A35: 20.1. | B35: IMSP CENTRUL DE SANATATE CAHUL | C35: X-ray staționar | D35: Brivo DR-F, GE Healthcare, SUA | E35: 2015 | F35: 1 | G35: 4 | H35: 4
A36: 20.1. | B36: IMSP CENTRUL DE SANATATE DURLESTI | C36: X-ray staționar | D36: Brivo DR-F, GE Healthcare, SUA | E36: 2014 | F36: 1 | G36: 2 | H36: 2
A37: 20.1. | B37: IMSP SPITALUL CLINIC DE PSIHIATRIE | C37: X-ray staționar | D37: Brivo DR-F, GE Healthcare, SUA | E37: 2016 | F37: 1 | G37: 2 | H37: 2
A38: 20.1. | B38: IMSP SPITALUL CLINIC MUNICIPAL GHEORGHE PALADI | C38: X-ray staționar | D38: Brivo DR-F, GE Healthcare, SUA | E38: 2015 | F38: 1 | G38: 4 | H38: 4
A39: 20.1. | B39: IMSP SPITALUL RAIONAL ANENII NOI | C39: X-ray staționar | D39: Brivo DR-F, GE Healthcare, SUA | E39: 2014 | F39: 1 | G39: 4 | H39: 4
A40: 20.1. | B40: IMSP SPITALUL RAIONAL CAHUL | C40: X-ray staționar | D40: Brivo DR-F, GE Healthcare, SUA | E40: 2015 | F40: 1 | G40: 4 | H40: 4
A41: 20.1. | B41: IMSP SPITALUL RAIONAL GLODENI | C41: X-ray staționar | D41: Brivo DR-F, GE Healthcare, SUA | E41: 2014 | F41: 1 | G41: 4 | H41: 4
A42: 20.1. | B42: IMSP SPITALUL RAIONAL NISPORENI | C42: X-ray staționar | D42: Brivo DR-F, GE Healthcare, SUA | E42: 2014 | F42: 1 | G42: 3 | H42: 3
A43: 20.1. | B43: IMSP SPITALUL RAIONAL SANGEREI | C43: X-ray staționar | D43: Brivo DR-F, GE Healthcare, SUA | E43: 2014 | F43: 1 | G43: 4 | H43: 4
A44: 20.2. | B44: IMSP CENTRUL REPUBLICAN DE DIAGNOSTICARE MEDICALA | C44: X-ray staționar | D44: Discovery XR656, GE Healthcare, SUA | E44: 2015 | F44: 1 | G44: 2 | H44: 2
A45: 21 | B45: IMSP SPITALUL CLINIC DE RECUPERARE SI INGRIJIRI CRONICE | C45: X-ray staționar | D45: GXR-68 SD, DRGEM, Coreea de Sud | E45: 2020 | F45: 1 | G45: 2 | H45: 2
A46: 21 | B46: IMSP SPITALUL CLINIC MUNICIPAL DE COPII V IGNATENCO | C46: X-ray staționar | D46: GXR-68 SD, DRGEM, Coreea de Sud | E46: 2018 | F46: 1 | G46: 2 | H46: 2
A47: 22 | B47: IMSP INSTITUTUL DE CARDIOLOGIE | C47: X-ray staționar | D47: DuoDiagnost, Philips, Olanda | E47: 2009 | F47: 1 | G47: 2 | H47: 2
A48: 22 | B48: IMSP INSTITUTUL DE PNEUMOLOGIE CHIRIL DRAGANIUC | C48: X-ray staționar | D48: DuoDiagnost, Philips, Olanda | E48: 2005 | F48: 1 | G48: 2 | H48: 2
A49: 22 | B49: IMSP SPITALUL CLINIC BALTI | C49: X-ray staționar | D49: DuoDiagnost, Philips, Olanda | E49: 2009 | F49: 1 | G49: 2 | H49: 2
A50: 23.1. | B50: IMSP CENTRUL DE SANATATE STEFAN VODA | C50: X-ray staționar | D50: MoviPlan 800, Villa, Italia | E50: 2021 | F50: 1 | G50: 4 | H50: 4
A51: 23.1. | B51: IMSP ASOCIATIA MEDICALA TERITORIALA RASCANI | C51: X-ray staționar | D51: MoviPlan 800, Villa, Italia | E51: 2021 | F51: 1 | G51: 4 | H51: 4
A52: 23.2. | B52: IMSP SPITALUL CLINIC BALTI | C52: X-ray staționar | D52: Lem Plus iC, Villa, Italia | E52: 2020 | F52: 1 | G52: 2 | H52: 2
A53: 32 | B53: IMSP ASOCIATIA MEDICALA TERITORIALA CIOCANA | C53: X-ray staționar | D53: CRDD-09 ALFA, S.P.GelpiK (КРДЦ-09, С.П.Гелпик), Rusia | E53: 2008 | F53: 1 | G53: 4 | H53: 4
A54: 26 | B54: IMSP CENTRUL DE SANATATE CALARASI | C54: X-ray staționar | D54: KAIGEN-65 R, Listem, Corea de Sud | F54: 1 | G54: 4 | H54: 4
A55: 27 | B55: IMSP SPITALUL RAIONAL TELENESTI | C55: X-ray staționar | D55: Opera T30, GMM, Italia | E55: 2012 | F55: 1 | G55: 2 | H55: 2
A56: 28 | B56: IMSP INSTITUTUL MAMEI SI COPILULUI | C56: Sistem de tomografie dentara | D56: Veraviewepocs 3D F40, Morita, Japonia | E56: 2013 | F56: 1 | G56: 4 | H56: 4
A57: 29 | B57: IMSP SPITALUL CLINIC BALTI | C57: Sistem radiografic cu brat U | D57: Diamond-5A, DRGEM, Coreea de Sud | E57: 2021 | F57: 1 | G57: 2 | H57: 2
A58: 30 | B58: IMSP CENTRUL REPUBLICAN DE DIAGNOSTICARE MEDICALA | C58: Sistem radiologic de mamografie staţionar, digital | D58: Senographe Crystal, GE Healthcare, SUA | E58: 2016 | F58: 1 | G58: 2 | H58: 2
A59: 24 | B59: IMSP SPITALUL CLINIC BALTI | C59: Sistem radiologic de mamografie staţionar, digital | D59: Helianthus, Metaltronica, Italia | E59: 2022 | F59: 1 | G59: 4 | H59: 4
A60: 24 | B60: IMSP INSTITUTUL ONCOLOGIC | C60: Sistem radiologic de mamografie staţionar, digital | D60: Helianthus, Metaltronica, Italia | E60: 2022 | F60: 1 | G60: 2 | H60: 2
A61: 33 | B61: IMSP INSTITUTUL ONCOLOGIC | C61: Sistem radiologic de mamografie staţionar, digital | D61: Amulet F, FujiFilm, Japonia | E61: 2014 | F61: 1 | G61: 2 | H61: 2
F62: =SUBTOTAL(109,'4 X-ray staționar'!$F$2:$F$61) -> 64 | G62: =SUBTOTAL(109,'4 X-ray staționar'!$B$2:$H$61 '4 X-ray staționar'!$G$2:$G$61 ) -> 182 | H62: =SUBTOTAL(109,'4 X-ray staționar'!$H$2:$H$61) -> 198

Sheet 5 X-ray mobil
B1: Beneficiar | C1: Modelul și producătorul DM | D1: Anul de fabricare a DM | E1: Cantitatea Dispozitivelor | F1: Numărul de vizite per an | G1: Numărul Total de vizite per An
A2: 34.1. | B2: IMSP INSTITUTUL MAMEI SI COPILULUI | C2: MobileArt Eco, Shimadzu, Japonia | D2: 2009 | E2: 1 | F2: 2 | G2: 2
A3: 34.1. | B3: IMSP INSTITUTUL MAMEI SI COPILULUI | C3: MobileArt Eco, Shimadzu, Japonia | D3: 1999 | E3: 2 | F3: 2 | G3: 4
A4: 34.2. | B4: IMSP INSTITUTUL MAMEI SI COPILULUI | C4: MobileArt Evolution, Shimadzu, Japonia | D4: 2014 | E4: 1 | F4: 2 | G4: 2
A5: 34.3. | B5: SERVICIUL MEDICAL AL MINISTERULUI AFACERILOR INTERNE | C5: MobileArt Evolution MX7, Shimadzu, Japonia | D5: 2020 | E5: 1 | F5: 2 | G5: 2
A6: 34.4. | B6: IMSP SPITALUL CLINIC MUNICIPAL DE COPII V IGNATENCO | C6: MUX-10, Shimadzu, Japonia | D6: 2014 | E6: 2 | F6: 2 | G6: 4
A7: 34.5. | B7: IMSP SPITALUL RAIONAL CAHUL | C7: Mobile ART ECO Mux 10 | E7: 2 | G7: 4
A8: 35.1. | B8: IMSP SPITALUL CLINIC DE RECUPERARE SI INGRIJIRI CRONICE | C8: XFM, ItalRay, Italia | D8: 2021 | E8: 1 | F8: 4 | G8: 4
A9: 35.1. | B9: IMSP SPITALUL CLINIC MUNICIPAL GHEORGHE PALADI | C9: XFM, ItalRay, Italia | D9: 2021 | E9: 1 | F9: 2 | G9: 2
A10: 35.1. | B10: IMSP SPITALUL CLINIC MUNICIPAL SFANTUL ARHANGHEL MIHAIL | C10: XFM, ItalRay, Italia | D10: 2020 | E10: 1 | F10: 2 | G10: 2
A11: 35.1. | B11: IMSP SPITALUL CLINIC REPUBLICAN TIMOFEI MOSNEAGA | C11: XFM, ItalRay, Italia | D11: 2021 | E11: 2 | F11: 2 | G11: 4
A12: 35.1. | B12: IMSP INSTITUTUL DE CARDIOLOGIE | C12: XFM, ItalRay, Italia | D12: 2021 | E12: 1 | F12: 2 | G12: 2
A13: 35.1. | B13: IMSP INSTITUTUL DE PNEUMOLOGIE CHIRIL DRAGANIUC | C13: XFM, ItalRay, Italia | D13: 2020 | E13: 1 | F13: 2 | G13: 2
A14: 35.1. | B14: IMSP INSTITUTUL MAMEI SI COPILULUI | C14: XFM, ItalRay, Italia | D14: 2020 | E14: 2 | F14: 2 | G14: 4
A15: 35.1. | B15: IMSP SPITALUL CLINIC DE TRAUMATOLOGIE SI ORTOPEDIE | C15: XFM, ItalRay, Italia | D15: 2021 | E15: 1 | F15: 2 | G15: 2
A16: 35.1. | B16: IMSP SPITALUL CLINIC BALTI | C16: XFM, ItalRay, Italia | D16: 2020 | E16: 1 | F16: 2 | G16: 2
A17: 35.1. | B17: IMSP SPITALUL CLINIC BALTI | C17: XFM, ItalRay, Italia | D17: 2021 | E17: 1 | F17: 2 | G17: 2
A18: 35.2. | B18: IMSP SPITALUL CLINIC DE PSIHIATRIE | C18: XFM AMR+IR303/A-D, ITALRAY S.r.l., Italia | D18: 2021 | E18: 1 | F18: 1 | G18: 1
A19: 35.1. | B19: IMSP SPITALUL CLINIC MUNICIPAL DE COPII V IGNATENCO | C19: XFM, ItalRay, Italia | D19: 2021 | E19: 1 | F19: 1 | G19: 1
A20: 36 | B20: IMSP SPITALUL RAIONAL ANENII NOI | C20: Symply DR, Ibis, Italia | D20: 2020 | E20: 1 | F20: 2 | G20: 2
A21: 36 | B21: IMSP SPITALUL RAIONAL CAHUL | C21: Symply DR, Ibis, Italia | D21: 2020 | E21: 1 | F21: 2 | G21: 2
A22: 36 | B22: IMSP SPITALUL CLINIC MUNICIPAL DE COPII NR 1 | C22: Symply DR, Ibis, Italia | D22: 2020 | E22: 1 | F22: 2 | G22: 2
A23: 36 | B23: IMSP SPITALUL CLINIC MUNICIPAL GHEORGHE PALADI | C23: Symply DR, Ibis, Italia | D23: 2020 | E23: 2 | F23: 2 | G23: 4
A24: 36 | B24: IMSP POLICLINICA DE STAT | C24: Symply DR, Ibis, Italia | D24: 2021 | E24: 1 | F24: 2 | G24: 2
A25: 36 | B25: IMSP CENTRUL DE SANATATE STEFAN VODA | C25: Symply DR, Ibis, Italia | D25: 2021 | E25: 1 | F25: 2 | G25: 2
A26: 36 | B26: IMSP SPITALUL RAIONAL TELENESTI | C26: Symply DR, Ibis, Italia | D26: 2020 | E26: 1 | F26: 2 | G26: 2
A27: 36 | B27: IMSP SPITALUL CLINIC BALTI | C27: Symply DR, Ibis, Italia | D27: 2021 | E27: 2 | F27: 2 | G27: 4
A28: 36 | B28: IMSP SPITALUL RAIONAL CIMISLIA | C28: Symply DR, Ibis, Italia | D28: 2021 | E28: 1 | F28: 1 | G28: 1
A29: 36 | B29: IMSP SPITALUL RAIONAL FALESTI | C29: Symply DR, Ibis, Italia | D29: 2020 | E29: 1 | F29: 1 | G29: 1
A30: 36 | B30: IMSP SPITALUL RAIONAL NISPORENI | C30: Symply DR, Ibis, Italia | D30: 2020 | E30: 1 | F30: 1 | G30: 1
A31: 36 | B31: IMSP SPITALUL RAIONAL SANGEREI | C31: Simply-DR, IBIS ,Italia | D31: 2021 | E31: 1 | F31: 2 | G31: 2
A32: 37.1. | B32: IMSP INSTITUTUL DE CARDIOLOGIE | C32: Proslide 32 SR, Protec, Germania | D32: 2018 | E32: 1 | F32: 2 | G32: 2
A33: 37.2. | B33: IMSP INSTITUTUL DE PNEUMOLOGIE CHIRIL DRAGANIUC | C33: Proslide 32-DR Touch, Germania | D33: 2019 | E33: 1 | F33: 2 | G33: 2
A34: 38 | B34: IMSP INSTITUTUL DE PNEUMOLOGIE CHIRIL DRAGANIUC | C34: ARTF-101-AMICO , Rusia | D34: 2017 | E34: 2 | F34: 2 | G34: 4
A35: 39 | B35: IMSP INSTITUTUL MAMEI SI COPILULUI | C35: Mobilett Plus, Siemens, Germania | D35: 2011 | E35: 1 | F35: 2 | G35: 2
A36: 40 | B36: IMSP SPITALUL RAIONAL GLODENI | C36: TOPAZ 32D, DRGEM, Corea de Sud | D36: 2019 | E36: 1 | F36: 2 | G36: 2
A37: 41 | B37: IMSP SPITALUL RAIONAL TELENESTI | C37: DRx30, AERO, Spania | D37: 2020 | E37: 1 | F37: 2 | G37: 2
A38: 42 | B38: IMSP SPITALUL CLINIC BALTI | C38: Visitor T 30 C-DR, Villa, Italia | D38: 2020 | E38: 1 | F38: 2 | G38: 2
E39: =SUBTOTAL(109,'5 X-ray mobil'!$E$2:$E$38) -> 45 | G39: =SUBTOTAL(109,'5 X-ray mobil'!$G$2:$G$38) -> 87
G42: ='5 X-ray mobil'!$G$39-G18 -> 86

Sheet 6 C-arm
A1: Nr. lot | B1: Beneficiar | C1: Dispozitivul Medical | D1: Modelul și producătorul DM | E1: Anul de fabricare a DM | F1: Cantitatea Dispozitivelor | G1: Numărul de vizite per an | H1: Numărul Total de vizite per An
A2: 44 | B2: IMSP INSTITUTUL MAMEI SI COPILULUI | C2: Unitate radiologică mobilă cu braț C | D2: ZEN-7000, Genoray, Coreea de Sud | E2: 2019 | F2: 1 | G2: 4 | H2: 4
A3: 45 | B3: IMSP SPITALUL CLINIC BALTI | C3: Unitate radiologică mobilă cu braț C | D3: Solo FD, Ziehm Imaging, Germania | E3: 2020 | F3: 1 | G3: 4 | H3: 4
A4: 43 | B4: IMSP SPITALUL CLINIC DE TRAUMATOLOGIE SI ORTOPEDIE | C4: Unitate radiologică mobilă cu braț C | D4: Opescope Acteno, Shimadzu, Japan | F4: 1 | G4: 2 | H4: 2
A5: 43 | B5: IMSP SPITALUL CLINIC REPUBLICAN TIMOFEI MOSNEAGA | C5: Unitate radiologică mobilă cu braț C | D5: Opescope Acteno, Shimadzu, Japan | E5: 2014 | F5: 2 | G5: 4 | H5: 8
A6: 46 | B6: IMSP SPITALUL CLINIC MUNICIPAL DE COPII V IGNATENCO | C6: Unitate radiologică mobilă cu braț C | D6: Neeo R9, Ibis, Italia | E6: 2018 | F6: 1 | G6: 1 | H6: 1
A7: 47 | B7: IMSP SPITALUL RAIONAL GLODENI | C7: Unitate radiologică mobilă cu braț C | D7: Visiograf Prox/Pro Sensor, Planmeca, Filanda | E7: 2022 | F7: 1 | G7: 1 | H7: 1
A8: 199 | B8: IMSP SPITALUL RAIONAL CAHUL | C8: Unitate radiologică mobilă cu braț C | D8: Carmex 9R, Italray, Italia | E8: 2022 | F8: 1 | G8: 4 | H8: 4
F9: =SUBTOTAL(109,$F$2:$F$8) -> 8 | G9: =SUBTOTAL(109,'6 C-arm'!$B$2:$H$7 '6 C-arm'!$G$2:$G$7 ) -> 16 | H9: =SUBTOTAL(109,$H$2:$H$8) -> 24

Sheet 7 PET-CT 
A1: Nr. lot | B1: Source.Name | C1: Dispozitivul Medical | D1: Modelul și producătorul DM | E1: Anul de fabricare a DM | F1: Cantitatea Dispozitivelor | G1: Numărul de vizite per an | H1: Numărul Total de vizite per An
A2: 48 | B2: IMSP SPITALUL CLINIC REPUBLICAN TIMOFEI MOSNEAGA | C2: PET-CT (tomografie cu emisie de pozitroni) | D2: SIEMENS Arcadis Avantic | F2: 1 | G2: 4 | H2: 4

Sheet 8 SPECT
A1: Nr. lot | B1: Beneficiar | C1: Dispozitivul Medical | D1: Modelul și producătorul DM | E1: Anul de fabricare a DM | F1: Cantitatea Dispozitivelor | G1: Numărul de vizite per an | H1: Numărul Total de vizite per An
A2: 49 | B2: IMSP CENTRUL REPUBLICAN DE DIAGNOSTICARE MEDICALA | C2: SPECT (tomografie computerizată cu emisie de foton unic) | D2: Optima NM/CT 640, GE HealthCare | E2: 2014 | F2: 1 | G2: 2 | H2: 2
A3: 49.1. | B3: IMSP CENTRUL REPUBLICAN DE DIAGNOSTICARE MEDICALA | C3: SPECT (tomografie computerizată cu emisie de foton unic) | D3: AnyScan S, Mediso Medical Imaging Systems | E3: 2022 | F3: 1 | G3: 2 | H3: 2
A4: 49.2. | B4: IMSP INSTITUTUL ONCOLOGIC | C4: SPECT (tomografie computerizată cu emisie de foton unic) | D4: AnyScan, Mediso Medical Imaging Systems | E4: 2010 | F4: 1 | G4: 2 | H4: 2
A5: 49.2 | B5: IMSP SPITALUL CLINIC REPUBLICAN TIMOFEI MOSNEAGA | C5: SPECT (tomografie computerizată cu emisie de foton unic) | D5: AnyScan, Mediso Medical Imaging Systems | E5: 2013 | F5: 1 | G5: 4 | H5: 4
F6: =SUBTOTAL(109,'8 SPECT'!$F$2:$F$5) -> 4 | H6: =SUBTOTAL(109,'8 SPECT'!$H$2:$H$5) -> 10

Sheet 9 Accelerator, Gamma camera
A1: Nr. | B1: Beneficiar | C1: Dispozitivul Medical | D1: Modelul și producătorul DM | E1: Anul de fabricare a DM | F1: Cantitatea Dispozitivelor | G1: Numărul de vizite per an | H1: Numărul Total de vizite per An
A2: 52 | B2: IMSP INSTITUTUL MAMEI SI COPILULUI | C2: Gamma camera | D2: Mediso Nucline X-ring-4R | E2: 2006 | F2: 1 | G2: 12 | H2: 12
A3: 51 | B3: IMSP INSTITUTUL ONCOLOGIC | C3: Accelerator liniar | D3: VitalBeam, Varian Medical Systems | E3: 2021 | F3: 1 | G3: 4 | H3: 4
A4: 51 | B4: IMSP INSTITUTUL ONCOLOGIC | C4: Accelerator liniar | D4: VitalBeam, Varian Medical Systems | E4: 2024 | F4: 1 | G4: 4 | H4: 4
A5: 53 | B5: IMSP INSTITUTUL ONCOLOGIC | C5: Accelerator liniar | D5: Clinac DHX, Varian Medical Systems | E5: 2008 | F5: 1 | G5: 4 | H5: 4
F6: =SUBTOTAL(109,'9 Accelerator, Gamma camera'!$F$2:$F$5) -> 4 | H6: =SUBTOTAL(109,'9 Accelerator, Gamma camera'!$H$2:$H$5) -> 24

Sheet 10 Ecografe (USG)
A1: Nr, lot | B1: Beneficiar | C1: Dispozitivul Medical | D1: Modelul și producătorul DM | E1: Anul de fabricare a DM | F1: Cantitatea Dispozitivelor | G1: Numărul de vizite per an | H1: Numărul Total de vizite per An
A2: 63 | B2: IMSP ASOCIATIA MEDICALA TERITORIALA BUIUCANI | C2: Ecografe (USG) | D2: Nemio XG SSA-580A, Toshiba Medical, Japonia | E2: 2010 | F2: 1 | G2: 2 | H2: 2
A3: 54.1 | B3: IMSP ASOCIATIA MEDICALA TERITORIALA CIOCANA | C3: Ecografe (USG) | D3: Aplio TUS A-500, Canon, Japonia | E3: 2016 | F3: 1 | G3: 4 | H3: 4
A4: 54.2 | B4: IMSP INSTITUTUL MAMEI SI COPILULUI | C4: Ecografe (USG) | D4: Xario SSA-660A, Toshiba Medical, Japonia | E4: 2010 | F4: 1 | G4: 2 | H4: 2
A5: 55.1. | B5: IMSP ASOCIATIA MEDICALA TERITORIALA CENTRU | C5: Ecografe (USG) | D5: TUS-A300, Canon, Japonia | E5: 2019 | F5: 1 | G5: 1 | H5: 1
A6: 55.2. | B6: IMSP ASOCIATIA MEDICALA TERITORIALA BUIUCANI | C6: Ecografe (USG) | D6: Aplio 300, Toshiba Medical, Japonia | E6: 2017 | F6: 1 | G6: 2 | H6: 2
A7: 55.2. | B7: IMSP INSTITUTUL MAMEI SI COPILULUI | C7: Ecografe (USG) | D7: Aplio 300, Toshiba Medical, Japonia | E7: 2014 | F7: 9 | G7: 2 | H7: 18
A8: 64 | B8: IMSP SPITALUL CLINIC DE TRAUMATOLOGIE SI ORTOPEDIE | C8: Ecografe (USG) | D8: Xario 100G, Canon, Japonia | F8: 1 | G8: 2 | H8: 2
A9: 56.1 | B9: IMSP ASOCIATIA MEDICALA TERITORIALA BUIUCANI | C9: Ecografe (USG) | D9: Voluson E10, GE Healthcare Inc. | E9: 2019 | F9: 1 | G9: 2 | H9: 2
A10: 56.1 | B10: IMSP ASOCIATIA MEDICALA TERITORIALA CIOCANA | C10: Ecografe (USG) | D10: Voluson E10, GE Healthcare Inc. | E10: 2020 | F10: 1 | G10: 4 | H10: 4
A11: 56.2 | B11: IMSP ASOCIATIA MEDICALA TERITORIALA CIOCANA | C11: Ecografe (USG) | D11: Voluson E8 Expert, GE Healthcare Inc. | E11: 2012 | F11: 1 | G11: 4 | H11: 4
A12: 57.1 | B12: IMSP ASOCIATIA MEDICALA TERITORIALA BUIUCANI | C12: Ecografe (USG) | D12: LOGIQ Fortis HDU Producător GE Healthcare , Corea | E12: 2023 | F12: 1 | G12: 2 | H12: 2
A13: 57.2 | B13: IMSP ASOCIATIA MEDICALA TERITORIALA BUIUCANI | C13: Ecografe (USG) | D13: Logiq P9, GE Healthcare | E13: 2021 | F13: 1 | G13: 2 | H13: 2
A14: 57.2 | B14: IMSP ASOCIATIA MEDICALA TERITORIALA CENTRU | C14: Ecografe (USG) | D14: Logiq P9, GE Healthcare | E14: 2010 | F14: 1 | G14: 1 | H14: 1
A15: 57.2 | B15: IMSP CENTRUL DE SANATATE DURLESTI | C15: Ecografe (USG) | D15: Logiq P9, GE Healthcare | E15: 2021 | F15: 1 | G15: 2 | H15: 2
A16: 57.2 | B16: IMSP SPITALUL RAIONAL SANGEREI | C16: Ecografe (USG) | D16: Logiq F9, GE Healthcare Inc. | E16: 2023 | F16: 1 | G16: 2 | H16: 2
A17: 57.2 | B17: IMSP SPITALUL RAIONAL CAHUL | C17: Ecografe (USG) | D17: Logiq F9, GE Healthcare Inc. | E17: 2023 | F17: 1 | G17: 4 | H17: 4
A18: 57.3. | B18: IMSP SPITALUL RAIONAL SANGEREI | C18: Ecografe (USG) | D18: Logiq F8, GE Healthcare Inc. | E18: 2016 | F18: 1 | G18: 2 | H18: 2
A19: 57.3. | B19: IMSP SPITALUL RAIONAL NISPORENI | C19: Ecografe (USG) | D19: Logiq F8, GE Healthcare Inc. | E19: 2018 | F19: 1 | G19: 1 | H19: 1
A20: 57.4 | B20: IMSP CLINICA UNIVERSITARA DE ASISTENTA MEDICALA PRIMARA A USMF N TESTIMITANU | C20: Ecografe (USG) | D20: Logiq S7, GE Healthcare Inc. | E20: 2012 | F20: 1 | G20: 2 | H20: 2
... A36: 60.3 | B36: IMSP ASOCIATIA MEDICALA TERITORIALA RASCANI | C36: Ecografe (USG) | D36: S20, SonoScape, China | E36: 2016 | F36: 1 | G36: 2 | H36: 2
A37: 65 | B37: IMSP INSTITUTUL DE PNEUMOLOGIE CHIRIL DRAGANIUC | C37: Ecografe (USG) | D37: SSI-5000, SonoScape, China | E37: 2009 | F37: 1 | G37: 2 | H37: 2
A38: 61.1 | B38: IMSP ASOCIATIA MEDICALA TERITORIALA RASCANI | C38: Ecografe (USG) | D38: Vinno G65, Vinno, China | E38: 2022 | F38: 1 | G38: 2 | H38: 2
A39: 61.2 | B39: IMSP POLICLINICA DE STAT | C39: Ecografe (USG) | D39: Vinno G55, Vinno, China | E39: 2024 | F39: 1 | G39: 4 | H39: 4
A40: 61.3 | B40: IMSP SPITALUL RAIONAL CAHUL | C40: Ecografe (USG) | D40: Vinno X3, Vinno, China | F40: 1 | G40: 4 | H40: 4
A41: 62 | B41: IMSP POLICLINICA DE STAT | C41: Ecografe (USG) | D41: Mirror 2 Touch, Shenzhen Landwind, China | E41: 2023 | F41: 1 | G41: 4 | H41: 4
A42: 62 | B42: IMSP INSTITUTUL DE PNEUMOLOGIE CHIRIL DRAGANIUC | C42: Ecografe (USG) | D42: Mirror 2 Touch, Shenzhen Landwind, China | E42: 2023 | F42: 1 | G42: 2 | H42: 2
A43: 62 | B43: IMSP SPITALUL RAIONAL ANENII NOI | C43: Ecografe (USG) | D43: Mirror 2 Touch, Shenzhen Landwind, China | E43: 2021 | F43: 1 | G43: 4 | H43: 4
A44: 66 | B44: IMSP INSTITUTUL DE PNEUMOLOGIE CHIRIL DRAGANIUC | C44: Ecografe (USG) | D44: VD 320, Coreea | E44: 2019 | F44: 1 | G44: 2 | H44: 2
A45: 67 | B45: IMSP CENTRUL DE SANATATE STEFAN VODA | C45: Ecografe (USG) | D45: XCUBE90on GPX | E45: 2023 | F45: 1 | G45: 4 | H45: 4
F46: =SUBTOTAL(109,'10 Ecografe (USG)'!$F$2:$F$45) -> 55 | H46: =SUBTOTAL(109,'10 Ecografe (USG)'!$H$2:$H$45) -> 127

Sheet 11 Sistem PACS
A1: Nr. | B1: Beneficiar | C1: Dispozitivul Medical | D1: Modelul și producătorul DM | E1: Anul de fabricare a DM | F1: Cantitatea Dispozitivelor | G1: Numărul de vizite per an | H1: Numărul Total de vizite per An
A2: 68.1. | B2: IMSP ASOCIATIA MEDICALA TERITORIALA RASCANI | C2: Sistem PACS | D2: Clarity | E2: 2021 | F2: 1 | G2: 2 | H2: 2
A3: 68.2. | B3: IMSP POLICLINICA DE STAT | C3: Sistem PACS | D3: Clarity; iCRco | E3: 2013 | F3: 1 | G3: 2 | H3: 2
A4: 68.3 | B4: IMSP POLICLINICA DE STAT | C4: Sistem PACS | D4: medDreeam; Softneta Medical Imaging | E4: 2023 | F4: 1 | G4: 4 | H4: 4
A5: 68.4 | B5: IMSP SPITALUL RAIONAL GLODENI | C5: Sistem PACS | D5: VINNO X3 / Vinno Technology (Suzhou) Co Ltd. | E5: 2021 | F5: 1 | G5: 1 | H5: 1
F6: =SUBTOTAL(109,'11 Sistem PACS'!$F$2:$F$5) -> 4 | H6: =SUBTOTAL(109,'11 Sistem PACS'!$H$2:$H$5) -> 9

Sheet 12 Mașină de anestezie
A1: Nr. | B1: Beneficiar | C1: Dispozitivul Medical | D1: Modelul și producătorul DM | E1: Anul de fabricare a DM | F1: Cantitatea Dispozitivelor | G1: Numărul de vizite per an | H1: Numărul Total de vizite per An
A2: 69 | B2: IMSP SPITALUL CLINIC MUNICIPAL DE COPII V IGNATENCO | C2: Mașină de anestezie | D2: Perseus A500, Drager, Germania | E2: 2023 | F2: 1 | G2: 1 | H2: 1
A3: 69 | B3: IMSP INSTITUTUL DE CARDIOLOGIE | C3: Mașină de anestezie | D3: Perseus A500, Drager, Germania | E3: 2023 | F3: 1 | G3: 4 | H3: 4
A4: 70.1 | B4: IMSP SPITALUL CLINIC MUNICIPAL DE COPII V IGNATENCO | C4: Mașină de anestezie | D4: Primus, Drager, Germania | E4: 2010 | F4: 2 | G4: 1 | H4: 2
A5: 70.2 | B5: IMSP SPITALUL RAIONAL GLODENI | C5: Mașină de anestezie | D5: Fabius Plus, Drager, Germania | E5: 2008 | F5: 1 | G5: 4 | H5: 4
A6: 71.1 | B6: IMSP CENTRUL REPUBLICAN DE DIAGNOSTICARE MEDICALA | C6: Mașină de anestezie | D6: Carestation 650A1, GE HealthCare | E6: 2020 | F6: 1 | G6: 1 | H6: 1
A7: 71.1 | B7: IMSP SPITALUL RAIONAL SANGEREI | C7: Mașină de anestezie | D7: Carestation 650A1, GE HealthCare | E7: 2020 | F7: 1 | G7: 1 | H7: 1
A8: 71.1 | B8: IMSP SPITALUL RAIONAL FALESTI | C8: Mașină de anestezie | D8: Carestation 650A1, GE HealthCare | E8: 2020 | F8: 1 | G8: 1 | H8: 1
A9: 71.1 | B9: IMSP SPITALUL RAIONAL FALESTI | C9: Mașină de anestezie | D9: Carestation 650A1, GE HealthCare | E9: 2023 | F9: 1 | G9: 1 | H9: 1
A10: 71.2 | B10: IMSP SPITALUL RAIONAL NISPORENI | C10: Mașină de anestezie | D10: Carestation 620, GE Healthcare Inc. | E10: 2019 | F10: 1 | G10: 1 | H10: 1
A11: 73 | B11: SERVICIUL MEDICAL AL MINISTERULUI AFACERILOR INTERNE | C11: Mașină de anestezie | D11: Flow-I, Maquet | E11: 2019 | F11: 1 | G11: 4 | H11: 4
A12: 74 | B12: SERVICIUL MEDICAL AL MINISTERULUI AFACERILOR INTERNE | C12: Mașină de anestezie | D12: LEON, Lowenstein, Germania | E12: 2024 | F12: 1 | G12: 4 | H12: 4
A13: 200 | B13: IMSP SPITALUL RAIONAL CAHUL | C13: Mașină de anestezie | D13: Lowenstein Leon Plus, Lowenstein, Germania | F13: 1 | G13: 4 | H13: 4
A14: 72.1. | B14: IMSP INSTITUTUL DE PNEUMOLOGIE CHIRIL DRAGANIUC | C14: Mașină de anestezie | D14: WATO EX-65 + ePM15, Mindray, China | E14: 2023 | F14: 1 | G14: 2 | H14: 2
A15: 72.2 | B15: IMSP SPITALUL CLINIC MUNICIPAL SFANTUL ARHANGHEL MIHAIL | C15: Mașină de anestezie | D15: WATO EX-65PRO, Mindray, China | E15: 2024 | F15: 1 | G15: 1 | H15: 1
A16: 72.2 | B16: IMSP SPITALUL RAIONAL SANGEREI | C16: Mașină de anestezie | D16: WATO EX-65PRO, Mindray, China | E16: 2024 | F16: 1 | G16: 1 | H16: 1
A17: 72.2 | B17: IMSP INSTITUTUL DE CARDIOLOGIE | C17: Mașină de anestezie | D17: WATO EX-65PRO, Mindray, China | E17: 2019 | F17: 2 | G17: 4 | H17: 8
A18: 72.2 | B18: IMSP SPITALUL RAIONAL CAHUL | C18: Mașină de anestezie | D18: WATO EX-65PRO, Mindray, China | F18: 1 | G18: 4 | H18: 4
A19: 72.3 | B19: IMSP SPITALUL RAIONAL CIMISLIA | C19: Mașină de anestezie | D19: WATO-EX 65, Mindray, China | E19: 2022 | F19: 1 | G19: 2 | H19: 2
A20: 72.3 | B20: IMSP SPITALUL RAIONAL CIMISLIA | C20: Mașină de anestezie | D20: WATO-EX 65, Mindray, China | E20: 2023 | F20: 1 | G20: 2 | H20: 2
A21: 72.3 | B21: IMSP SPITALUL RAIONAL CAHUL | C21: Mașină de anestezie | D21: WATO-EX 65, Mindray, China | F21: 2 | G21: 4 | H21: 8
A22: 75 | B22: SERVICIUL MEDICAL AL MINISTERULUI AFACERILOR INTERNE | C22: Mașină de anestezie | D22: AX500, DAMECA | E22: 2020 | F22: 1 | G22: 4 | H22: 4
A23: 76 | B23: SERVICIUL MEDICAL AL MINISTERULUI AFACERILOR INTERNE | C23: Mașină de anestezie | D23: ATESE 2000 | E23: 2018 | F23: 1 | G23: 4 | H23: 4
A24: 77 | B24: IMSP SPITALUL RAIONAL TELENESTI | C24: Masina de anestezie | D24: Genesis, Spania | E24: 2022 | F24: 1 | G24: 2 | H24: 2
A25: 78 | B25: IMSP SPITALUL RAIONAL TELENESTI | C25: Masina de anestezie | D25: Saturn Evo, Rusia | E25: 1998 | F25: 1 | G25: 2 | H25: 2
A26: 201 | B26: IMSP SPITALUL RAIONAL CAHUL | C26: Mașină de anestezie | D26: Safer 100, Nambuk Mednics, Korea | F26: 1 | G26: 4 | H26: 4
F27: =SUBTOTAL(109,$F$2:$F$26) -> 28 | H27: =SUBTOTAL(109,$H$2:$H$26) -> 72

Sheet 13 Monitoare
A1: Nr. | B1: Beneficiar | C1: Dispozitivul Medical | D1: Modelul și producătorul DM | E1: Anul de fabricare a DM | F1: Cantitatea Dispozitivelor | G1: Numărul de vizite per an | H1: Numărul Total de vizite per An
A2: 79.1 | B2: IMSP SPITALUL RAIONAL CIMISLIA | C2: Monitoare funcții vitale | D2: BeneVision N12, Shenzhen Mindray, China | E2: 2023 | F2: 1 | G2: 1 | H2: 1
A3: 79.2 | B3: IMSP SPITALUL RAIONAL TELENESTI | C3: Monitoare funcții vitale | D3: Mec-2000, Shenzhen Mindray, China | E3: 2009 | F3: 4 | G3: 2 | H3: 8
A4: 79.2 | B4: IMSP SPITALUL RAIONAL GLODENI | C4: Monitoare funcții vitale | D4: Mec-2000, Shenzhen Mindray, China | E4: 2005 | F4: 2 | G4: 4 | H4: 8
A5: 80 | B5: IMSP INSTITUTUL DE PNEUMOLOGIE CHIRIL DRAGANIUC | C5: Monitoare pentru funcții vitale | D5: BT-770, Bistos, Coreea de Sud | E5: 2020 | F5: 4 | G5: 2 | H5: 8
A6: 80 | B6: IMSP SPITALUL RAIONAL CIMISLIA | C6: Monitoare pentru funcții vitale | D6: BT-770, Bistos, Coreea de Sud | E6: 2020 | F6: 6 | G6: 1 | H6: 6
A7: 81.1 | B7: IMSP SPITALUL RAIONAL CIMISLIA | C7: Monitoare funcții vitale | D7: PM-900, Shenzhen Biocare, China | E7: 2020/2023 | F7: 3 | G7: 1 | H7: 3
A8: 81.1 | B8: IMSP INSTITUTUL DE PNEUMOLOGIE CHIRIL DRAGANIUC | C8: Monitoare funcții vitale | D8: PM-900, Shenzhen Biocare, China | E8: 2023 | F8: 1 | G8: 2 | H8: 2
A9: 81.1 | B9: IMSP SPITALUL RAIONAL SANGEREI | C9: Monitoare funcții vitale | D9: PM-900, Shenzhen Biocare, China | E9: 2022 | F9: 2 | G9: 1 | H9: 2
A10: 81.2 | B10: IMSP SPITALUL RAIONAL GLODENI | C10: Monitoare funcții vitale | D10: PM - 9000 Mindray Medical International Limited | E10: 2008 | F10: 1 | G10: 4 | H10: 4
A11: 83 | B11: IMSP INSTITUTUL DE PNEUMOLOGIE CHIRIL DRAGANIUC | C11: Monitoare pentru funcții vitale | D11: PMS8000C, Fazzini S.R.L. , Italia | E11: 2017 | F11: 3 | G11: 2 | H11: 6
A12: 202 | B12: IMSP SPITALUL RAIONAL CAHUL | C12: Monitoare funcții vitale | D12: FM5000C, Fazzini S.R.L. , Italia | E12: 2021 | F12: 2 | G12: 4 | H12: 8
A13: 82.1 | B13: IMSP INSTITUTUL DE PNEUMOLOGIE CHIRIL DRAGANIUC | C13: Monitoare funcții vitale | D13: iM60, Edan, China | E13: 2023 | F13: 4 | G13: 2 | H13: 8
A14: 82.1 | B14: IMSP SPITALUL RAIONAL TELENESTI | C14: Monitoare funcții vitale | D14: iM60, Edan, China | E14: 2020 | F14: 1 | G14: 2 | H14: 2
A15: 82.2 | B15: IMSP SPITALUL RAIONAL CIMISLIA | C15: Monitoare funcții vitale | D15: iM50, Edan, China | E15: 2020 | F15: 1 | G15: 1 | H15: 1
A16: 82.3 | B16: IMSP SPITALUL RAIONAL CIMISLIA | C16: Monitoare funcții vitale | D16: iM8, Edan, China | E16: 2018/2019 | F16: 5 | G16: 1 | H16: 5
A17: 82.4 | B17: IMSP SPITALUL RAIONAL SANGEREI | C17: Monitoare funcții vitale | D17: Edan, China | E17: 2021 | F17: 1 | G17: 1 | H17: 1
A18: 82.5 | B18: IMSP SPITALUL RAIONAL CAHUL | C18: Monitoare funcții vitale | D18: F6, Edan, China | E18: 2021 | F18: 2 | G18: 4 | H18: 8
A19: 84 | B19: IMSP INSTITUTUL DE PNEUMOLOGIE CHIRIL DRAGANIUC | C19: Monitoare pentru funcții vitale | D19: IUM 300, Utas Co. LLC, Ukraina | E19: 2003 | F19: 1 | G19: 2 | H19: 2
F20: =SUBTOTAL(109,'13 Monitoare'!$F$2:$F$19) -> 44 | H20: =SUBTOTAL(109,'13 Monitoare'!$H$2:$H$19) -> 83

Sheet 14 Pompă de perfuzie
A1: Nr. | B1: Beneficiar | C1: Dispozitivul Medical | D1: Modelul și producătorul DM | E1: Anul de fabricare a DM | F1: Cantitatea Dispozitivelor | G1: Numărul de vizite per an | H1: Numărul Total de vizite per An
A2: 85 | B2: IMSP SPITALUL RAIONAL CIMISLIA | C2: Pompă de perfuzie și seringi automate | D2: SP6000/Arcomed AG Medical Systems | E2: 2021 | F2: 4 | G2: 1 | H2: 4
A3: 86 | B3: IMSP SPITALUL RAIONAL CIMISLIA | C3: Pompă de perfuzie și seringi automate | D3: Alaris GH Plus/BD Switzerland Sàrl | E3: 2020 | F3: 1 | G3: 1 | H3: 1
A4: 86 | B4: IMSP SPITALUL RAIONAL CAHUL | C4: Pompă de perfuzie și seringi automate | D4: Alaris GH Plus/BD Switzerland Sàrl | F4: 10 | G4: 4 | H4: 40
A5: 87 | B5: IMSP SPITALUL RAIONAL CIMISLIA | C5: Pompă de perfuzie și seringi automate | D5: Compact Plus/B. Braun Melsungen AG | E5: 2020 | F5: 13 | G5: 1 | H5: 13
A6: 87 | B6: IMSP SPITALUL RAIONAL CAHUL | C6: Pompă de perfuzie și seringi automate | D6: Compact Plus/B. Braun Melsungen AG | F6: 10 | G6: 4 | H6: 40
A7: 203 | B7: IMSP SPITALUL RAIONAL CAHUL | C7: Pompă de perfuzie și seringi automate | D7: Medima S 300 | F7: 6 | G7: 4 | H7: 24
A8: 204 | B8: IMSP SPITALUL RAIONAL CAHUL | C8: Pompă de perfuzie și seringi automate | D8: Viltechmeda DF-12M | F8: 4 | G8: 4 | H8: 16
A9: 88 | B9: IMSP SPITALUL RAIONAL GLODENI | C9: Pompă de perfuzie și seringi automate | D9: JR2000D SHANXI JERRY MEDICAL INSTRUMENT CO., LTD. | E9: 2017 | F9: 4 | G9: 4 | H9: 16
A10: 89 | B10: IMSP SPITALUL RAIONAL SANGEREI | C10: Pompa de infuzie | D10: Alaris | E10: 2019 | F10: 2 | G10: 1 | H10: 2
A11: 90 | B11: IMSP SPITALUL RAIONAL SANGEREI | C11: Pompa de infuzie | D11: ENMIND,Terum | E11: 2021 | F11: 4 | G11: 1 | H11: 4
A12: 91 | B12: IMSP SPITALUL RAIONAL TELENESTI | C12: Pompa de perfuzie | D12: JZB1800 | E12: 2020 | F12: 4 | G12: 2 | H12: 8
A13: 92 | B13: IMSP SPITALUL RAIONAL GLODENI | C13: Pompa de perfuzie | D13: EN-S7 Smart/ Shenzhen Enmind Technology Co., Ltd. | E13: 2020 | F13: 2 | G13: 4 | H13: 8
F14: =SUBTOTAL(109,'14 Pompă de perfuzie'!$F$2:$F$13) -> 64 | H14: =SUBTOTAL(109,'14 Pompă de perfuzie'!$H$2:$H$13) -> 176

Sheet 15 Defibrilatoare
A1: Nr. | B1: Beneficiar | C1: Dispozitivul Medical | D1: Modelul și producătorul DM | E1: Anul de fabricare a DM | F1: Cantitatea Dispozitivelor | G1: Numărul de vizite per an | H1: Numărul Total de vizite per An
A2: 96 | B2: IMSP ASOCIATIA MEDICALA TERITORIALA RASCANI | C2: Defibrilator | D2: DEA Ku-er Paramedic | E2: 2014 | F2: 4 | G2: 2 | H2: 8
A3: 205 | B3: IMSP SPITALUL RAIONAL CAHUL | C3: Defibrilator | D3: Primedic XD30 | F3: 3 | G3: 4 | H3: 12
A4: 93.1 | B4: IMSP SPITALUL RAIONAL CAHUL | C4: Defibrilator | D4: BeneHeart D3, Mindray, China | F4: 1 | G4: 4 | H4: 4
A5: 93.1 | B5: IMSP INSTITUTUL DE PNEUMOLOGIE CHIRIL DRAGANIUC | C5: Defibrilator | D5: BeneHeart D3, Mindray, China | E5: 2019 | F5: 1 | G5: 2 | H5: 2
A6: 93.1 | B6: IMSP SPITALUL RAIONAL CIMISLIA | C6: Defibrilator | D6: BeneHeart D3, Mindray, China | E6: 2019 | F6: 1 | G6: 1 | H6: 1
A7: 93.2 | B7: IMSP SPITALUL RAIONAL TELENESTI | C7: Defibrilator | D7: Mindray, China | E7: 2021 | F7: 1 | G7: 2 | H7: 2
A8: 94.1 | B8: IMSP INSTITUTUL DE PNEUMOLOGIE CHIRIL DRAGANIUC | C8: Defibrilator | D8: Saver One, AMI, Italia | E8: 2023 | F8: 1 | G8: 2 | H8: 2
A9: 94.1 | B9: IMSP POLICLINICA DE STAT | C9: Defibrilator | D9: Saver One, AMI, Italia | E9: 2023 | F9: 1 | G9: 4 | H9: 4
A10: 94.2 | B10: IMSP ASOCIATIA MEDICALA TERITORIALA RASCANI | C10: Defibrilator | D10: Saver One P, AMI, Italia | E10: 2023 | F10: 3 | G10: 2 | H10: 6
A11: 95 | B11: IMSP SPITALUL RAIONAL CIMISLIA | C11: Defibrilator | D11: Cardio-Aid 360B, Innomed Medical, Ungaria | E11: 2023 | F11: 1 | G11: 1 | H11: 1
A12: 95 | B12: IMSP SPITALUL RAIONAL SANGEREI | C12: Defibrilator | D12: Cardio-Aid 360B, Innomed Medical, Ungaria | E12: 2023 | F12: 1 | G12: 1 | H12: 1
A13: 95 | B13: IMSP SPITALUL RAIONAL FALESTI | C13: Defibrilator | D13: Cardio-Aid 360B, Innomed Medical, Ungaria | E13: 2023 | F13: 2 | G13: 1 | H13: 2
A14: 95 | B14: IMSP SPITALUL RAIONAL TELENESTI | C14: Defibrilator | D14: Cardio-Aid 360B, Innomed Medical, Ungaria | E14: 2020 | F14: 1 | G14: 2 | H14: 2
A15: 97 | B15: IMSP SPITALUL RAIONAL CIMISLIA | C15: Defibrilator | D15: Philips medical Systems | E15: 2006 | F15: 1 | G15: 1 | H15: 1
F16: =SUBTOTAL(109,'15 Defibrilatoare'!$F$2:$F$15) -> 22 | H16: =SUBTOTAL(109,'15 Defibrilatoare'!$H$2:$H$15) -> 48

Sheet 16 EMG
B1: Beneficiar | C1: Dispozitivul Medical | D1: Modelul și producătorul DM | E1: Anul de fabricare a DM | F1: Cantitatea Dispozitivelor | G1: Numărul de vizite per an | H1: Numărul de vizite per An
A2: 98 | B2: IMSP SPITALUL RAIONAL GLODENI | C2: Electromiograf (EMG) | D2: Pm-900/ Biocare medical itn | E2: 2023 | F2: 1 | G2: 4 | H2: 4

Sheet 17 Mașini de dializă
A1: nr. | B1: Beneficiar | C1: Dispozitivul Medical | D1: Modelul și producătorul DM | E1: Anul de fabricare a DM | F1: Cantitatea Dispozitivelor | G1: Numărul de vizite per an | H1: Numărul Total de vizite per An
A2: 100 | B2: IMSP INSTITUTUL DE CARDIOLOGIE | C2: Aparat autotransfuzie | D2: XTRALiva Nova Anglia | E2: 2018 | F2: 1 | G2: 3 | H2: 3
A3: 99.1 | B3: IMSP INSTITUTUL MAMEI SI COPILULUI | C3: Sistem de purificare a apei | D3: Fresenius Medical Care AG & Co. Aqua B 750 | E3: 2004 | F3: 1 | G3: 3 | H3: 3
A4: 99.4 | B4: IMSP SPITALUL RAIONAL CAHUL | C4: Dispozitiv pentru dializă | D4: Fresenius Medical Care AG & Co. AquaStore | F4: 1 | G4: 4 | H4: 4
A5: 99.2 | B5: IMSP INSTITUTUL MAMEI SI COPILULUI | C5: Sistem de mixare a soluțiilor | D5: Fresenius Medical Care AG & Co. Granumix 107 S | E5: 2005 | F5: 1 | G5: 3 | H5: 3
A6: 99.2 | B6: IMSP SPITALUL RAIONAL CAHUL | C6: Dispozitiv pentru dializă | D6: Fresenius Medical Care AG & Co. Granumix 107 S | F6: 1 | G6: 4 | H6: 4
A7: 99.3 | B7: IMSP INSTITUTUL MAMEI SI COPILULUI | C7: Dispozitiv pentru dializă | D7: Fresenius Medical Care AG & Co. 4008 B | E7: 2004 | F7: 5 | G7: 3 | H7: 15
A8: 99.3 | B8: IMSP SPITALUL RAIONAL CAHUL | C8: Dispozitiv pentru dializă | D8: Fresenius Medical Care AG & Co. 4008 B | F8: 10 | G8: 4 | H8: 40

Sheet 18 Incubatoare
B1: Beneficiar | C1: Dispozitivul Medical | D1: Modelul și producătorul DM | E1: Anul de fabricare a DM | F1: Cantitatea Dispozitivelor | G1: Numărul de vizite per an | H1: Numărul Total de vizite per An
A2: 163 | B2: IMSP SPITALUL RAIONAL GLODENI | C2: Incubatoare și mese radiante pentru nou-născuți | D2: Alaris GH/ CareFusion Corporation | E2: 2020 | F2: 4 | G2: 2 | H2: =F2*G2 -> 8

Sheet 19 Microscoape Chirurgie
B1: Source.Name | C1: Dispozitivul Medical | D1: Modelul și producătorul DM | E1: Anul de fabricare a DM | F1: Cantitatea Dispozitivelor | G1: Numărul de vizite per an
A2: 102 | B2: SERVICIUL MEDICAL AL MINISTERULUI AFACERILOR INTERNE | C2: Microscop | D2: neurochirurgical KARL ZEISS OPMI Pantero | E2: 2010 | F2: 1 | G2: 1

Sheet 20 Ventilator de respirație
B1: Beneficiar | C1: Dispozitivul Medical | D1: Modelul și producătorul DM | E1: Anul de fabricare a DM | F1: Cantitatea Dispozitivelor | G1: Numărul de vizite per an | H1: Numărul Total de vizite per An
A2: 111 | B2: IMSP SPITALUL RAIONAL CIMISLIA | C2: Ventilator de respirație artificailă | D2: Elisa 300, Lowenstein, Germania | E2: 2021 | F2: 4 | G2: 2 | H2: 8
A3: 112 | B3: IMSP INSTITUTUL DE PNEUMOLOGIE CHIRIL DRAGANIUC | C3: Ventilator de respirație artificailă | D3: Prisma VENT WM 120 TD, Lowenstein, Germania | E3: 2021 | F3: 1 | G3: 4 | H3: 4
A4: 113.1 | B4: IMSP INSTITUTUL DE CARDIOLOGIE | C4: Ventilator de respirație artificailă | D4: Heyer Port+, Heeyer, Germania | E4: 2019 | F4: 1 | G4: 4 | H4: 4
A5: 114.1 | B5: IMSP SPITALUL RAIONAL SANGEREI | C5: Ventilator de respirație artificailă | D5: Hamilton C1, SUA | E5: 2020 | F5: 2 | G5: 1 | H5: 2
A6: 114.1 | B6: IMSP SPITALUL RAIONAL CAHUL | C6: Ventilator de respirație artificailă | D6: Hamilton C1, SUA | F6: 1 | G6: 4 | H6: 4
A7: 114.2 | B7: IMSP SPITALUL RAIONAL CAHUL | C7: Ventilator de respirație artificailă | D7: Hamilton C2, SUA | F7: 1 | G7: 4 | H7: 4
A8: 114.3 | B8: IMSP SPITALUL RAIONAL CAHUL | C8: Ventilator de respirație artificailă | D8: Hamilton C3, SUA | F8: 2 | G8: 4 | H8: 8
A9: 114.4 | B9: IMSP SPITALUL RAIONAL CAHUL | C9: Ventilator de respirație artificailă | D9: Hamilton C6, SUA | F9: 1 | G9: 4 | H9: 4
A10: 103.1 | B10: IMSP SPITALUL RAIONAL SANGEREI | C10: Servicii de mentenanță pentru | D10: SV650 Mindray, China | E10: 2021 | F10: 1 | G10: 1 | H10: 1
A11: 103.1 | B11: IMSP SPITALUL CLINIC DE PSIHIATRIE | C11: Ventilator de respirație artificială | D11: SV650 Mindray, China | E11: 2021 | F11: 1 | G11: 1 | H11: 1
A12: 103.1 | B12: IMSP SPITALUL RAIONAL NISPORENI | C12: Ventilator de respirație artificială | D12: SV650 Mindray, China | E12: 2021 | F12: 1 | G12: 1 | H12: 1
A13: 103.1 | B13: IMSP SPITALUL RAIONAL TELENESTI | C13: Ventilator de respirație artificială | D13: SV650 Mindray, China | E13: 2021 | F13: 1 | G13: 2 | H13: 2
A14: 103.1 | B14: IMSP SPITALUL RAIONAL CIMISLIA | C14: Ventilator de respirație artificială | D14: SV650 Mindray, China | E14: 2020 | F14: 1 | G14: 2 | H14: 2
A15: 103.2 | B15: IMSP INSTITUTUL DE PNEUMOLOGIE CHIRIL DRAGANIUC | C15: Ventilator de respirație artificială | D15: SV600 Mindray, China | E15: 2023 | F15: 1 | G15: 4 | H15: 4
A16: 103.3 | B16: IMSP INSTITUTUL DE PNEUMOLOGIE CHIRIL DRAGANIUC | C16: Ventilator de respirație artificială | D16: SV300 Mindray, China | E16: 2019 | F16: 2 | G16: 4 | H16: 8
A17: 103.3 | B17: IMSP INSTITUTUL DE CARDIOLOGIE | C17: Ventilator de respirație artificială | D17: SV300 Mindray, China | E17: 2018 | F17: 2 | G17: 4 | H17: 8
A18: 103.1 | B18: IMSP INSTITUTUL DE PNEUMOLOGIE CHIRIL DRAGANIUC | C18: Ventilator de respirație artificială | D18: SV650 Mindray, China | E18: 2021 | F18: 5 | G18: 4 | H18: 20
A19: 103.1 | B19: IMSP SPITALUL RAIONAL CAHUL | C19: Ventilator de respirație artificială | D19: SV650 Mindray, China | F19: 4 | G19: 4 | H19: 16
A20: 206 | B20: IMSP SPITALUL RAIONAL CAHUL | C20: Ventilator de respirație artificială | D20: Newport E360 | F20: 1 | G20: 4 | H20: 4
A21: 207 | B21: IMSP SPITALUL RAIONAL CAHUL | C21: Ventilator de respirație artificială | D21: Aeomed VG 70 | F21: 1 | G21: 4 | H21: 4
A22: 113.2 | B22: IMSP SPITALUL RAIONAL CAHUL | C22: Ventilator de respirație artificială | D22: Heyer Iternis Evo 1 | F22: 2 | G22: 4 | H22: 8
A23: 113.3 | B23: IMSP SPITALUL RAIONAL CAHUL | C23: Ventilator de respirație artificială | D23: Heyer VS 500S | F23: 1 | G23: 4 | H23: 4
A24: 104 | B24: IMSP INSTITUTUL DE PNEUMOLOGIE CHIRIL DRAGANIUC | C24: Ventilator de respirație artificailă | D24: Jenny, Westfalia, Germania | E24: 2021 | F24: 2 | G24: 4 | H24: 8
A25: 104 | B25: IMSP SPITALUL RAIONAL SANGEREI | C25: Ventilator de respirație artificailă | D25: Jenny, Westfalia, Germania | E25: 2021 | F25: 1 | G25: 1 | H25: 1
A26: 104 | B26: SERVICIUL MEDICAL AL MINISTERULUI AFACERILOR INTERNE | C26: Ventilator de respirație artificailă | D26: Jenny, Westfalia, Germania | E26: 2021 | F26: 1 | G26: 4 | H26: 4
A27: 104 | B27: IMSP SPITALUL RAIONAL GLODENI | C27: Ventilator de respirație artificailă | D27: Jenny, Westfalia, Germania | E27: 2021 | F27: 1 | G27: 4 | H27: 4
A28: 105 | B28: IMSP SPITALUL RAIONAL GLODENI | C28: Ventilator de respirație artificailă | D28: Boaray 5000D,Prunus, China | E28: 2020 | F28: 1 | G28: 4 | H28: 4
A29: 105 | B29: IMSP SPITALUL RAIONAL SANGEREI | C29: Ventilator de respirație artificailă | D29: Boaray 5000D,Prunus, China | E29: 2021 | F29: 1 | G29: 4 | H29: 4
A30: 105 | B30: IMSP SPITALUL RAIONAL TELENESTI | C30: Ventilator de respirație artificailă | D30: Boaray 5000D,Prunus, China | E30: 2020 | F30: 1 | G30: 2 | H30: 2
A31: 105 | B31: SERVICIUL MEDICAL AL MINISTERULUI AFACERILOR INTERNE | C31: Ventilator de respirație artificailă | D31: Boaray 5000D,Prunus, China | E31: 2020 | F31: 2 | G31: 4 | H31: 8
A32: 106.1 | B32: IMSP SPITALUL RAIONAL CIMISLIA | C32: Ventilator de respirație artificailă | D32: MV 200, TRITON, Rusia | E32: 2019 | F32: 1 | G32: 2 | H32: 2
A33: 106.2 | B33: IMSP SPITALUL RAIONAL GLODENI | C33: Ventilator de respirație artificailă | D33: MV 300, TRITON, Rusia | E33: 2020 | F33: 1 | G33: 4 | H33: 4
A34: 107 | B34: IMSP SPITALUL RAIONAL TELENESTI | C34: Ventilator de respirație artificailă | D34: Shangrila 650, Beijing Aeonmed Co, Ltd, China | E34: 2011 | F34: 2 | G34: 2 | H34: 4
A35: 108 | B35: IMSP SPITALUL RAIONAL CIMISLIA | C35: Ventilator de respirație artificailă | D35: Shangrila 590, Beijing Aeonmed Co, Ltd, China | E35: 2011 | F35: 1 | G35: 2 | H35: 2
A36: 109 | B36: IMSP SPITALUL RAIONAL CIMISLIA | C36: Ventilator de respirație artificailă | D36: BRIZ, Burevestnik Kievschii gosudarstvenii zavod | E36: 2009 | F36: 1 | G36: 2 | H36: 2
A37: 109 | B37: IMSP SPITALUL RAIONAL SANGEREI | C37: Ventilator de respirație artificailă | D37: BRIZ, Burevestnik Kievschii gosudarstvenii zavod | E37: 2005 | F37: 1 | G37: 1 | H37: 1
A38: 110 | B38: IMSP SPITALUL RAIONAL CIMISLIA | C38: Ventilator de respirație artificailă | D38: Nestovent 7, Curativus, Filanda | E38: 2004 | F38: 1 | G38: 2 | H38: 2
F39: =SUBTOTAL(109,'20 Ventilator de respirație'!$F$2:$F$38) -> 55 | H39: =SUBTOTAL(109,'20 Ventilator de respirație'!$H$2:$H$38) -> 173

Sheet 21 Microscoape optice
B1: Beneficiar | C1: Dispozitivul Medical | D1: Modelul și producătorul DM | E1: Anul de fabricare a DM | F1: Cantitatea Dispozitivelor | G1: Numărul de vizite per an | H1: Numărul Total de vizite per An
A2: 115.1 | B2: IMSP INSTITUTUL DE PNEUMOLOGIE CHIRIL DRAGANIUC | C2: Microscop optic și electronic | D2: Primo Star, Carl Zeiss, Germania | E2: 2020 | F2: 4 | G2: 2 | H2: 8
A3: 115.2 | B3: IMSP INSTITUTUL DE PNEUMOLOGIE CHIRIL DRAGANIUC | C3: Microscop optic și electronic | D3: OPMI - 99, Carl Zeiss, Germania | E3: 1991 | F3: 1 | G3: 2 | H3: 2
A4: 115.3 | B4: IMSP INSTITUTUL DE PNEUMOLOGIE CHIRIL DRAGANIUC | C4: Microscop optic și electronic | D4: Jenamed Variant,Carl Zeiss, Germania | E4: 2000 | F4: 1 | G4: 2 | H4: 2
A5: 117 | B5: IMSP INSTITUTUL DE PNEUMOLOGIE CHIRIL DRAGANIUC | C5: Microscop optic și electronic | D5: DM 2500, Leica Microsystems GmbH | E5: 2005 | F5: 2 | G5: 2 | H5: 4
A6: 118 | B6: IMSP POLICLINICA DE STAT | C6: Microscop optic și electronic | D6: Eclipse SI, Nikon Corporation, Japonia | E6: 2022 | F6: 1 | G6: 1 | H6: 1
A7: 116.1 | B7: IMSP INSTITUTUL DE PNEUMOLOGIE CHIRIL DRAGANIUC | C7: Microscop optic și electronic | D7: BX-50F-3, Olympus Medical Systems Corp. Japonia | E7: 2020 | F7: 1 | G7: 2 | H7: 2
A8: 116.2 | B8: IMSP INSTITUTUL DE PNEUMOLOGIE CHIRIL DRAGANIUC | C8: Microscop optic și electronic | D8: CX 41 RF, Olympus Medical Systems Corp. Japonia | E8: 2017 | F8: 1 | G8: 2 | H8: 2
A9: 119 | B9: IMSP INSTITUTUL DE PNEUMOLOGIE CHIRIL DRAGANIUC | C9: Microscop optic și electronic | D9: FM 600, Columbia Instruments, USA | E9: 2000 | F9: 2 | G9: 2 | H9: 4
A10: 120 | B10: IMSP INSTITUTUL DE PNEUMOLOGIE CHIRIL DRAGANIUC | C10: Microscop optic și electronic | D10: One-Ten, MicroStar, USA | E10: 1991 | F10: 1 | G10: 2 | H10: 2
A11: 121 | B11: IMSP CENTRUL DE SANATATE CEADIR-LUNGA | C11: Microscop optic și electronic | D11: B-192, Optika, Italia | E11: 2019 | F11: 3 | G11: 4 | H11: 12
A12: 122 | B12: IMSP INSTITUTUL DE PNEUMOLOGIE CHIRIL DRAGANIUC | C12: Microscop optic și electronic | D12: XC-208 AP, Biobase Biodusty (Shandong) Co. Ltd | E12: 2018 | F12: 4 | G12: 2 | H12: 8
A13: 123 | B13: IMSP CENTRUL DE SANATATE ANENII NOI | C13: Microscop optic și electronic | D13: XSZ-207, Native, China | E13: 2019 | F13: 1 | G13: 1 | H13: 1
A14: 124 | B14: IMSP CLINICA UNIVERSITARA DE ASISTENTA MEDICALA PRIMARA A USMF N TESTIMITANU | C14: Microscop optic și electronic | D14: PW-BK2000, Ningbo, China | F14: 1 | G14: 1 | H14: 1
A15: 125 | B15: IMSP INSTITUTUL DE PNEUMOLOGIE CHIRIL DRAGANIUC | C15: Microscop optic și electronic | D15: BA310 LED, Motic Incorporation Ltd., Hong Kong | E15: 2020 | F15: 7 | G15: 2 | H15: 14
A16: 126 | B16: IMSP SPITALUL RAIONAL TELENESTI | C16: Microscop optic și electronic | D16: microscop binocular | E16: 2012 | F16: 2 | G16: 1 | H16: 2
F17: =SUBTOTAL(109,'21 Microscoape optice'!$F$2:$F$16) -> 32 | H17: =SUBTOTAL(109,'21 Microscoape optice'!$H$2:$H$16) -> 65

Sheet 22 Centrifuga
B1: Beneficiar | C1: Dispozitivul Medical | D1: Modelul și producătorul DM | E1: Anul de fabricare a DM | F1: Cantitatea Dispozitivelor | G1: Numărul de vizite per an | H1: Numărul Total de vizite per An
A2: 127.1 | B2: IMSP INSTITUTUL DE PNEUMOLOGIE CHIRIL DRAGANIUC | C2: Centrifugă | D2: Rotixa 50 S, Hettich, Germania | E2: 2004 | F2: 1 | G2: 4 | H2: 4
A3: 127.2 | B3: IMSP POLICLINICA DE STAT | C3: Centrifugă | D3: Universal 320, Hettich, Germania | E3: 2019 | F3: 1 | G3: 2 | H3: 2
A4: 127.3 | B4: IMSP INSTITUTUL DE PNEUMOLOGIE CHIRIL DRAGANIUC | C4: Centrifugă | D4: ROTINA 380 R, Hettich, Germania | E4: 2017 | F4: 1 | G4: 4 | H4: 4
A5: 127.4 | B5: IMSP INSTITUTUL DE PNEUMOLOGIE CHIRIL DRAGANIUC | C5: Centrifugă | D5: ROTINA 420 R, Hettich, Germania | E5: 2009 | F5: 1 | G5: 4 | H5: 4
A6: 127.5 | B6: IMSP ASOCIATIA MEDICALA TERITORIALA CIOCANA | C6: Centrifugă | D6: Rotofix 32 A, Hettich, Germania | E6: 2008 | F6: 5 | G6: 4 | H6: 20
A7: 127.5 | B7: IMSP ASOCIATIA MEDICALA TERITORIALA RASCANI | C7: Centrifugă | D7: Rotofix 32 A, Hettich, Germania | E7: 2014 | F7: 5 | G7: 10 | H7: 50
A8: 127.5 | B8: IMSP SPITALUL RAIONAL TELENESTI | C8: Centrifugă | D8: Rotofix 32 A, Hettich, Germania | E8: 2012 | F8: 2 | G8: 1 | H8: 2
A9: 127.5 | B9: IMSP CLINICA UNIVERSITARA DE ASISTENTA MEDICALA PRIMARA A USMF N TESTIMITANU | C9: Centrifugă | D9: Rotofix 32 A, Hettich, Germania | E9: 2014 | F9: 1 | G9: 1 | H9: 1
A10: 127.5 | B10: IMSP SPITALUL RAIONAL BASARABEASCA | C10: Centrifugă | D10: Rotofix 32 A, Hettich, Germania | E10: 2009 | F10: 1 | G10: 1 | H10: 1
A11: 127.5 | B11: IMSP SPITALUL RAIONAL CAHUL | C11: Centrifugă | D11: Rotofix 32 A, Hettich, Germania | F11: 1 | G11: 4 | H11: 4
A12: 208 | B12: IMSP SPITALUL RAIONAL CAHUL | C12: Centrifugă | D12: Rotolavit II, Hettich, Germania | F12: 1 | G12: 4 | H12: 4
A13: 127.6 | B13: IMSP INSTITUTUL DE PNEUMOLOGIE CHIRIL DRAGANIUC | C13: Centrifugă | D13: EBA 200, Hettich, Germania | E13: 2020 | F13: 1 | G13: 4 | H13: 4
A14: 127.7 | B14: IMSP INSTITUTUL DE PNEUMOLOGIE CHIRIL DRAGANIUC | C14: Centrifugă | D14: Mikro 22, Hettich, Germania | E14: 2017 | F14: 1 | G14: 4 | H14: 4
A15: 127.8 | B15: IMSP INSTITUTUL DE PNEUMOLOGIE CHIRIL DRAGANIUC | C15: Centrifugă | D15: Mikro 200, Hettich, Germania | E15: 2012 | F15: 2 | G15: 4 | H15: 8
A16: 209 | B16: IMSP SPITALUL RAIONAL CAHUL | C16: Centrifugă | D16: Kokusan H26 | F16: 1 | G16: 4 | H16: 4
A17: 210 | B17: IMSP SPITALUL RAIONAL CAHUL | C17: Centrifugă | D17: Hermles Z366 | F17: 1 | G17: 4 | H17: 4
A18: 131 | B18: IMSP INSTITUTUL DE PNEUMOLOGIE CHIRIL DRAGANIUC | C18: Centrifugă | D18: Micro 17R, ThermoFisher, USA | E18: 2020 | F18: 2 | G18: 4 | H18: 8
A19: 132 | B19: IMSP ASOCIATIA MEDICALA TERITORIALA RASCANI | C19: Centrifugă | D19: 603.05.001, ISO LAB, Germania | E19: 2018 | F19: 1 | G19: 2 | H19: 2
A20: 128 | B20: IMSP SPITALUL RAIONAL CAHUL | C20: Centrifugă | D20: CM-6MT, Elmi, Letonia | F20: 1 | G20: 4 | H20: 4
A21: 128 | B21: IMSP CLINICA UNIVERSITARA DE ASISTENTA MEDICALA PRIMARA A USMF N TESTIMITANU | C21: Centrifugă | D21: CM-6MT, Elmi, Letonia | E21: 2014 | F21: 1 | G21: 1 | H21: 1
A22: 128 | B22: IMSP POLICLINICA DE STAT | C22: Centrifugă | D22: CM-6MT, Elmi, Letonia | E22: 2014 | F22: 1 | G22: 2 | H22: 2
A23: 128 | B23: IMSP ASOCIATIA MEDICALA TERITORIALA RASCANI | C23: Centrifugă | D23: CM-6MT, Elmi, Letonia | E23: 2024 | F23: 1 | G23: 2 | H23: 2
A24: 128 | B24: IMSP CENTRUL DE SANATATE ANENII NOI | C24: Centrifugă | D24: CM-6MT, Elmi, Letonia | E24: 2020 | F24: 1 | G24: 1 | H24: 1
A25: 128 | B25: IMSP CENTRUL DE SANATATE ANENII NOI | C25: Centrifugă | D25: CM-6MT, Elmi, Letonia | E25: 2024 | F25: 1 | G25: 1 | H25: 1
A26: 133 | B26: IMSP INSTITUTUL DE PNEUMOLOGIE CHIRIL DRAGANIUC | C26: Centrifugă | D26: CVP-2, BioSan Ltd., Letonia | E26: 2015 | F26: 1 | G26: 4 | H26: 4
A27: 134 | B27: IMSP INSTITUTUL DE PNEUMOLOGIE CHIRIL DRAGANIUC | C27: Centrifugă | D27: FVL 2400 N, BioSan Ltd., Letonia | E27: 2020 | F27: 4 | G27: 4 | H27: 16
A28: 129.1 | B28: IMSP ASOCIATIA MEDICALA TERITORIALA RASCANI | C28: Centrifugă | D28: BKS-TL5VII, Biobase, China | E28: 2021 | F28: 1 | G28: 2 | H28: 2
A29: 129.2 | B29: IMSP SPITALUL RAIONAL BASARABEASCA | C29: Centrifugă | D29: BKC-TL4IV, Biobase, China | E29: 2016 | F29: 1 | G29: 2 | H29: 2
A30: 129.3 | B30: IMSP INSTITUTUL DE PNEUMOLOGIE CHIRIL DRAGANIUC | C30: Centrifugă | D30: BKC-TH16, Biobase, China | E30: 2022 | F30: 2 | G30: 4 | H30: 8
A31: 130 | B31: IMSP CENTRUL DE SANATATE ANENII NOI | C31: Centrifugă | D31: OPN-3.02, Kirghizstan | E31: 2011 | F31: 1 | G31: 1 | H31: 1
A32: 130 | B32: IMSP CENTRUL DE SANATATE ANENII NOI | C32: Centrifugă | D32: OPN-3.02, Kirghizstan | E32: 2011 | F32: 1 | G32: 1 | H32: 1
A33: 130 | B33: IMSP INSTITUTUL DE PNEUMOLOGIE CHIRIL DRAGANIUC | C33: Centrifugă | D33: OPN-3.02, Kirghizstan | E33: 1988 | F33: 1 | G33: 4 | H33: 4
A34: 130 | B34: IMSP INSTITUTUL DE PNEUMOLOGIE CHIRIL DRAGANIUC | C34: Centrifugă | D34: OPN-3.02, Kirghizstan | E34: 2013 | F34: 1 | G34: 4 | H34: 4
A35: 135 | B35: IMSP CLINICA UNIVERSITARA DE ASISTENTA MEDICALA PRIMARA A USMF N TESTIMITANU | C35: Centrifugă | D35: DM0412, DLAB, China | E35: 2010 | F35: 1 | G35: 1 | H35: 1
A36: 136 | B36: IMSP INSTITUTUL DE PNEUMOLOGIE CHIRIL DRAGANIUC | C36: Centrifugă | D36: FC5000-1C, Bench Top, Turcia | E36: 2020 | F36: 2 | G36: 4 | H36: 8
A37: 137 | B37: IMSP INSTITUTUL DE PNEUMOLOGIE CHIRIL DRAGANIUC | C37: Centrifugă | D37: CEP 2000, Bench Top | E37: 2022 | F37: 2 | G37: 4 | H37: 8
A38: 138 | B38: IMSP INSTITUTUL DE PNEUMOLOGIE CHIRIL DRAGANIUC | C38: Centrifugă | D38: MPW-310, Polonia | E38: 2020 | F38: 1 | G38: 4 | H38: 4
A39: 139 | B39: IMSP INSTITUTUL DE PNEUMOLOGIE CHIRIL DRAGANIUC | C39: Centrifugă | D39: Sorvall ST 40R, Rusia | E39: 2018 | F39: 1 | G39: 4 | H39: 4
A40: 140 | B40: IMSP INSTITUTUL DE PNEUMOLOGIE CHIRIL DRAGANIUC | C40: Centrifugă | D40: Digtor 21 R, Orto Alresa, Spania | E40: 2016 | F40: 1 | G40: 4 | H40: 4
F41: =SUBTOTAL(109,'22 Centrifuga'!$F$2:$F$40) -> 56 | H41: =SUBTOTAL(109,'22 Centrifuga'!$H$2:$H$40) -> 212

Sheet 23 Autoclave și sterilizatoare
B1: Beneficiar | C1: Dispozitivul Medical | D1: Modelul și producătorul DM | E1: Anul de fabricare a DM | F1: Cantitatea Dispozitivelor | G1: Numărul de vizite per an | H1: Numărul Total de vizite per An
A2: 141.1 | B2: IMSP SPITALUL CLINIC MUNICIPAL SFANTUL ARHANGHEL MIHAIL | C2: Autoclav și sterilizator | D2: Euroclav 23S, Melag, Germania | E2: 2012 | F2: 1 | G2: 2 | H2: 2
A3: 141.2 | B3: IMSP SPITALUL CLINIC MUNICIPAL SFANTUL ARHANGHEL MIHAIL | C3: Autoclav și sterilizator | D3: Euroclav 23 VS+, Melag, Germania | E3: 2012 | F3: 1 | G3: 2 | H3: 2
A4: 141.3 | B4: IMSP ASOCIATIA MEDICALA TERITORIALA CENTRU | C4: Autoclav și sterilizator | D4: Euroklav 23VS, Melag, Germania | E4: 2008 | F4: 2 | G4: 6 | H4: 12
A5: 141.1 | B5: IMSP ASOCIATIA MEDICALA TERITORIALA CENTRU | C5: Autoclav și sterilizator | D5: Euroklav 23S, Melag, Germania | E5: 2007 | F5: 3 | G5: 9 | H5: 27
A6: 141.1 | B6: IMSP ASOCIATIA MEDICALA TERITORIALA CIOCANA | C6: Autoclav și sterilizator | D6: Euroklav 23S, Melag, Germania | E6: 2008 | F6: 1 | G6: 12 | H6: 12
A7: 141.3 | B7: IMSP ASOCIATIA MEDICALA TERITORIALA CIOCANA | C7: Autoclav și sterilizator | D7: Euroklav 23VS, Melag, Germania | E7: 2009 | F7: 1 | G7: 12 | H7: 12
A8: 141.4 | B8: IMSP SPITALUL CLINIC MUNICIPAL SFANTUL ARHANGHEL MIHAIL | C8: Autoclav și sterilizator | D8: Cliniclav 25, Melag, Germania | E8: 2012 | F8: 1 | G8: 2 | H8: 2
A9: 141.4 | B9: IMSP ASOCIATIA MEDICALA TERITORIALA CENTRU | C9: Autoclav și sterilizator | D9: Cliniklav 25, Melag, Germania | E9: 2013 | F9: 3 | G9: 9 | H9: 27
A10: 146 | B10: IMSP ASOCIATIA MEDICALA TERITORIALA CENTRU | C10: Autoclav și sterilizator | D10: HS33, Getinge | E10: 2014 | F10: 1 | G10: 6 | H10: 6
A11: 148 | B11: IMSP ASOCIATIA MEDICALA TERITORIALA CIOCANA | C11: Autoclav și sterilizator | D11: Onyx B 7.0, Tecno-GAZ | E11: 2019 | F11: 3 | G11: 2 | H11: 6
A12: 149 | B12: IMSP ASOCIATIA MEDICALA TERITORIALA CIOCANA | C12: Autoclav și sterilizator | D12: Nahita 632 | E12: 2017 | F12: 2 | G12: 12 | H12: 24
A13: 142.1 | B13: IMSP ASOCIATIA MEDICALA TERITORIALA RASCANI | C13: Autoclav și sterilizator | D13: AO-BKQ-Z100 (H), Biobase, China | E13: 2018 | F13: 1 | G13: 2 | H13: 2
A14: 142.2 | B14: IMSP ASOCIATIA MEDICALA TERITORIALA RASCANI | C14: Autoclav și sterilizator | D14: 21-25L, Biobase, China | E14: 2021, 2023 | F14: 2 | G14: 2 | H14: 4
A15: 142.3 | B15: IMSP ASOCIATIA MEDICALA TERITORIALA RASCANI | C15: Autoclav și sterilizator | D15: HAS T-50, Biobase, China | E15: 2017 | F15: 10 | G15: 2 | H15: 20
A16: 142.10 | B16: IMSP SPITALUL RAIONAL CAHUL | C16: Autoclav și sterilizator | D16: HAS T70, Biobase, China | E16: 2017 | F16: 2 | G16: 4 | H16: 8
A17: 142.4 | B17: IMSP INSTITUTUL DE CARDIOLOGIE | C17: Autoclav și sterilizator | D17: BKQ-2300H, Biobase, China | E17: 2018 | F17: 1 | G17: 4 | H17: 4
A18: .142.5 | B18: IMSP INSTITUTUL DE PNEUMOLOGIE CHIRIL DRAGANIUC | C18: Autoclav și sterilizator | D18: BKQ-B200H, Biobase, China | E18: 2018 | F18: 1 | G18: 4 | H18: 4
A19: 142.6 | B19: IMSP POLICLINICA DE STAT | C19: Autoclav și sterilizator | D19: BKM-Z80B, Biobase, China | E19: 2022 | F19: 1 | G19: 4 | H19: 4
A20: 142.7 | B20: IMSP ASOCIATIA MEDICALA TERITORIALA CENTRU | C20: Autoclav și sterilizator | D20: BKQ-Z100(H), Biobase, China | E20: 2013 | F20: 1 | G20: 1 | H20: 1
A21: 142.8 | B21: IMSP POLICLINICA DE STAT | C21: Autoclav și sterilizator | D21: BOV-V70F, Biobase, China | E21: 2023 | F21: 1 | G21: 4 | H21: 4
A22: 142.9 | B22: IMSP ASOCIATIA MEDICALA TERITORIALA CIOCANA | C22: Autoclav și sterilizator | D22: Biobase, China | E22: 2018 | F22: 2 | G22: 12 | H22: 24
A23: 143.1 | B23: IMSP ASOCIATIA MEDICALA TERITORIALA RASCANI | C23: Autoclav și sterilizator | D23: OT-32 VS, Nuve, Turcia | E23: 2011 | F23: 3 | G23: 2 | H23: 6
A24: 143.2 | B24: IMSP INSTITUTUL DE PNEUMOLOGIE CHIRIL DRAGANIUC | C24: Autoclav și sterilizator | D24: OT 430, Nuve, Turcia | E24: 2020 | F24: 1 | G24: 4 | H24: 4
A25: 143.2 | B25: IMSP SPITALUL CLINIC MUNICIPAL GHEORGHE PALADI | C25: Autoclav și sterilizator | D25: OT 430, Nuve, Turcia | E25: 2015 | F25: 3 | G25: 4 | H25: 12
A26: 143.3 | B26: IMSP INSTITUTUL DE CARDIOLOGIE | C26: Autoclav și sterilizator | D26: NC- 100, Nuve, Turcia | E26: 2019 | F26: 1 | G26: 4 | H26: 4
... A54: 162.3 | B54: IMSP ASOCIATIA MEDICALA TERITORIALA CIOCANA | C54: Autoclav și sterilizator | D54: VK-75-01 | E54: 2008 | F54: 2 | G54: 12 | H54: 24
A55: 150 | B55: IMSP INSTITUTUL DE PNEUMOLOGIE CHIRIL DRAGANIUC | C55: Autoclav și sterilizator | D55: VE 95, Germania | E55: 2017 | F55: 1 | G55: 4 | H55: 4
A56: 151 | B56: IMSP POLICLINICA DE STAT | C56: Autoclav și sterilizator | D56: Siroclave VS, Sirona Dental Systems | E56: 2006 | F56: 1 | G56: 4 | H56: 4
A57: 152 | B57: IMSP POLICLINICA DE STAT | C57: Autoclav și sterilizator | D57: Stericell 111, BMT Medical | E57: 2010 | F57: 1 | G57: 4 | H57: 4
A58: 145.12 | B58: IMSP SPITALUL CLINIC MUNICIPAL GHEORGHE PALADI | C58: Autoclav și sterilizator | D58: Plusteam 6, TBT, Turcia | E58: 2019 | F58: 1 | G58: 4 | H58: 4
A59: 145.12 | B59: IMSP SPITALUL CLINIC MUNICIPAL SFANTUL ARHANGHEL MIHAIL | C59: Autoclav și sterilizator | D59: Plusteam 6, TBT, Turcia | E59: 2018 | F59: 1 | G59: 4 | H59: 4
A60: 153 | B60: SERVICIUL MEDICAL AL MINISTERULUI AFACERILOR INTERNE | C60: Autoclav și sterilizator | D60: ГПД-400-2 | E60: 2010 | F60: 1 | G60: 4 | H60: 4
A61: 154 | B61: SERVICIUL MEDICAL AL MINISTERULUI AFACERILOR INTERNE | C61: Autoclav și sterilizator | D61: SM-DSD-450, STERILMED, Turcia | E61: 2021 | F61: 1 | G61: 4 | H61: 4
A62: 155 | B62: IMSP INSTITUTUL ONCOLOGIC | C62: Autoclav și sterilizator | D62: S1008-E2, Matachana | E62: 2014 | F62: 5 | G62: 2 | H62: 10
A63: 156 | B63: IMSP SPITALUL CLINIC MUNICIPAL SFANTA TREIME | C63: Autoclav și sterilizator | D63: D502E2, Matachana | E63: 2015 | F63: 2 | G63: 6 | H63: 12
A64: 157 | B64: IMSP INSTITUTUL DE CARDIOLOGIE | C64: Autoclav și sterilizator cu gaz | D64: Axis 135, Kordon, Turcia | E64: 2022 | F64: 2 | G64: 4 | H64: 8
A65: 158 | B65: IMSP INSTITUTUL DE PNEUMOLOGIE CHIRIL DRAGANIUC | C65: Termostate, incubator | D65: BD 400, Binder GmbH, Germania | E65: 2005 | F65: 1 | G65: 4 | H65: 4
A66: 211 | B66: IMSP SPITALUL RAIONAL CAHUL | C66: Termostate, incubator | D66: MIZ-MA Gp 40 | F66: 6 | G66: 4 | H66: 24
A67: 212 | B67: IMSP SPITALUL RAIONAL CAHUL | C67: Termostate, incubator | D67: Sanyo MOV-112S | F67: 2 | G67: 4 | H67: 8
A68: 213 | B68: IMSP SPITALUL RAIONAL CAHUL | C68: Termostate, incubator | D68: SF 750 Plus, MEMMERT GmbH, Germania | F68: 2 | G68: 4 | H68: 8
A69: 159 | B69: IMSP INSTITUTUL DE PNEUMOLOGIE CHIRIL DRAGANIUC | C69: Termostate, incubator | D69: INE 800, MEMMERT GmbH, Germania | E69: 2014 | F69: 1 | G69: 4 | H69: 4
A70: 163.1 | B70: IMSP INSTITUTUL DE PNEUMOLOGIE CHIRIL DRAGANIUC | C70: Termostat | D70: TC - 1/80, Rusia | E70: 1991 | F70: 2 | G70: 4 | H70: 8
A71: 163.1 | B71: IMSP INSTITUTUL DE PNEUMOLOGIE CHIRIL DRAGANIUC | C71: Termostat | D71: TC - 1/80, Rusia | E71: 1982 | F71: 1 | G71: 4 | H71: 4
A72: 163.1 | B72: IMSP INSTITUTUL DE PNEUMOLOGIE CHIRIL DRAGANIUC | C72: Termostat | D72: TC - 1/80, Rusia | E72: 1991 | F72: 1 | G72: 4 | H72: 4
A73: 163.1 | B73: IMSP INSTITUTUL DE PNEUMOLOGIE CHIRIL DRAGANIUC | C73: Termostat | D73: TC - 1/80, Rusia | E73: 1988 | F73: 2 | G73: 4 | H73: 8
A74: 163.1 | B74: IMSP INSTITUTUL DE PNEUMOLOGIE CHIRIL DRAGANIUC | C74: Termostat | D74: TC - 1/80, Rusia | E74: 1990 | F74: 1 | G74: 4 | H74: 4
A75: 163.1 | B75: IMSP INSTITUTUL DE PNEUMOLOGIE CHIRIL DRAGANIUC | C75: Termostat | D75: TC - 1/80, Rusia | E75: 1988 | F75: 3 | G75: 4 | H75: 12
A76: 163.1 | B76: IMSP INSTITUTUL DE PNEUMOLOGIE CHIRIL DRAGANIUC | C76: Termostat | D76: TC - 1/80, Rusia | E76: 1988 | F76: 1 | G76: 4 | H76: 4
A77: 163.2 | B77: IMSP INSTITUTUL DE PNEUMOLOGIE CHIRIL DRAGANIUC | C77: Termostat | D77: TV - 80-1 | E77: 2019 | F77: 2 | G77: 4 | H77: 8
A78: 160 | B78: IMSP SPITALUL RAIONAL NISPORENI | C78: Distrugator de ace si seringi | D78: STERIPLUS 80, Tesalys Making, Franta | E78: 2020 | F78: 1 | G78: 10 | H78: 10
F79: =SUBTOTAL(109,'23 Autoclave și sterilizatoare'!$F$2:$F$78) -> 142 | H79: =SUBTOTAL(109,'23 Autoclave și sterilizatoare'!$H$2:$H$78) -> 641

Sheet 24 Electrocuagulator
B1: Beneficiar | C1: Dispozitivul Medical | D1: Modelul și producătorul DM | E1: Anul de fabricare a DM | F1: Cantitatea Dispozitivelor | G1: Numărul de vizite per an | H1: Numărul Total de vizite per An
A2: 164 | B2: IMSP SPITALUL RAIONAL CIMISLIA | C2: Electrocuagulator | D2: HARTT 300/ KENTAMED Ltd | E2: 2018 | F2: 1 | G2: 1 | H2: 1
A3: 165 | B3: IMSP SPITALUL RAIONAL CIMISLIA | C3: Electrocuagulator | D3: Aesculap GN-300/ Aesculap Inc. | E3: 2004 | F3: 1 | G3: 1 | H3: 1
A4: 166 | B4: IMSP SPITALUL RAIONAL CIMISLIA | C4: Electrocuagulator | D4: UES-40/ Olympus Medical Systems Corp. | E4: 2014 | F4: 1 | G4: 1 | H4: 1
A5: 214 | B5: IMSP SPITALUL RAIONAL CAHUL | C5: Electrocuagulator | D5: Excell 350 MCDSe, Alsa, Italia | F5: 2 | G5: 4 | H5: 8
A6: 215 | B6: IMSP SPITALUL RAIONAL CAHUL | C6: Electrocuagulator | D6: Coagulator ValleyLab Force FX | F6: 1 | G6: 4 | H6: 4
A7: 167 | B7: IMSP SPITALUL RAIONAL SANGEREI | C7: Electrocardiograf | D7: EDAN SE1201; China | E7: 2021 | F7: 1 | G7: 1 | H7: 1
A8: 168 | B8: IMSP SPITALUL RAIONAL SANGEREI | C8: Spirometru | D8: BTL-0,8 | E8: 2018 | F8: 1 | G8: 1 | H8: 1
F9: =SUBTOTAL(109,'24 Electrocuagulator'!$F$2:$F$8) -> 8 | H9: =SUBTOTAL(109,'24 Electrocuagulator'!$H$2:$H$8) -> 17

Sheet 25 Endoscoape
B1: Beneficiar | C1: Dispozitivul Medical | D1: Modelul și producătorul DM | E1: Anul de fabricare a DM | F1: Cantitatea Dispozitivelor | G1: Numărul de vizite per an | H1: Numărul Total de vizite per An
A2: 169.1 | B2: IMSP ASOCIATIA MEDICALA TERITORIALA BUIUCANI | C2: Turn endoscopic | D2: Olympus videoprocesor, sursa de lumina, monitor, aspirator și accesoriile, Olympus Medical Systems, Japonia | E2: 2015 | F2: 1 | G2: 4 | H2: 4
A3: 169.1 | B3: IMSP INSTITUTUL MAMEI SI COPILULUI | C3: Turn endoscopic | D3: Olympus videoprocesor, sursa de lumina, monitor, aspirator și accesoriile conexe | E3: 2014 | F3: 2 | G3: 4 | H3: 8
A4: 169.2 | B4: IMSP ASOCIATIA MEDICALA TERITORIALA RASCANI | C4: Endoscop | D4: Olympus | E4: 2023 | F4: 1 | G4: 4 | H4: 4
A5: 169.3 | B5: IMSP ASOCIATIA MEDICALA TERITORIALA CIOCANA | C5: Endoscop | D5: EVIS EXERA II CV-165/CLE165, Olympus, Japonia | E5: 2012 | F5: 1 | G5: 2 | H5: 2
A6: 169.4 | B6: IMSP INSTITUTUL DE PNEUMOLOGIE CHIRIL DRAGANIUC | C6: Endoscop | D6: CV -170, Olympus, Japonia | E6: 2014 | F6: 1 | G6: 2 | H6: 2
A7: 169.4 | B7: IMSP INSTITUTUL DE PNEUMOLOGIE CHIRIL DRAGANIUC | C7: Endoscop | D7: CV -170, Olympus, Japonia | E7: 2023 | F7: 1 | G7: 2 | H7: 2
A8: 169.4 | B8: IMSP INSTITUTUL DE PNEUMOLOGIE CHIRIL DRAGANIUC | C8: Endoscop | D8: CV -170, Olympus, Japonia | E8: 2024 | F8: 1 | G8: 2 | H8: 2
A9: 170.1 | B9: IMSP SPITALUL RAIONAL GLODENI | C9: Endoscop | D9: GIF- H170, Olympus, Japonia | E9: 2019 | F9: 1 | G9: 1 | H9: 1
A10: 170.1 | B10: IMSP POLICLINICA DE STAT | C10: Endoscop | D10: GIF-H170, Olympus, Japonia | E10: 2017 | F10: 1 | G10: 4 | H10: 4
A11: 170.2 | B11: IMSP POLICLINICA DE STAT | C11: Endoscop | D11: GIF-H170L, Olympus, Japonia | E11: 2017 | F11: 1 | G11: 4 | H11: 4
A12: 170.3 | B12: IMSP SPITALUL CLINIC MUNICIPAL SFANTA TREIME | C12: Endoscop | D12: GIF-H185, Olympus, Japonia | E12: 2015 | F12: 1 | G12: 2 | H12: 2
A13: 170.3 | B13: IMSP INSTITUTUL MAMEI SI COPILULUI | C13: Endoscop | D13: GIF-H185, Olympus, Japonia | E13: 2024 | F13: 4 | G13: 4 | H13: 16
... A18: 170.8 | B18: IMSP SPITALUL CLINIC MUNICIPAL SFANTA TREIME | C18: Endoscop | D18: BF-190, Olympus, Japonia | E18: 2015 | F18: 1 | G18: 2 | H18: 2
A19: 171.1 | B19: IMSP CENTRUL REPUBLICAN DE DIAGNOSTICARE MEDICALA | C19: Endoscop | D19: EG-2990Zi, Pentax, Japonia | E19: 2020 (x7) 2021 (x3) | F19: 10 | G19: 2 | H19: 20
A20: 171.2 | B20: IMSP CENTRUL REPUBLICAN DE DIAGNOSTICARE MEDICALA | C20: Endoscop | D20: EC-3890Zi, Pentax, Japonia | E20: 2021 | F20: 5 | G20: 2 | H20: 10
A21: 171.3 | B21: IMSP CENTRUL REPUBLICAN DE DIAGNOSTICARE MEDICALA | C21: Endoscop | D21: EC-38-I10, Pentax, Japonia | E21: 2023 2024 (x2) | F21: 3 | G21: 2 | H21: 6
A22: 171.4 | B22: IMSP SPITALUL CLINIC MUNICIPAL SFANTA TREIME | C22: Endoscop | D22: FB-18V, Pentax, Japonia | E22: 2023 | F22: 1 | G22: 2 | H22: 2
A23: 171.5 | B23: IMSP SPITALUL RAIONAL FALESTI | C23: Endoscop | D23: EC-3490LK, Pentax, Japonia | E23: 2020 | F23: 1 | G23: 1 | H23: 1
A24: 172.1 | B24: IMSP INSTITUTUL DE PNEUMOLOGIE CHIRIL DRAGANIUC | C24: Endoscop | D24: FB120P, Fujinon Fujifilm, Light sonrce PS2-HP | E24: 2017 | F24: 1 | G24: 2 | H24: 2
A25: 172.2 | B25: IMSP SPITALUL CLINIC MUNICIPAL SFANTA TREIME | C25: Endoscop | D25: EC-590ZW3L, Fujinon Fujifilm | E25: 2016 | F25: 1 | G25: 2 | H25: 2
A26: 174 | B26: IMSP POLICLINICA DE STAT | C26: Endoscop | D26: Storz 11001UD1; Karl Storz GmbH & Co. KG | E26: 2020 | F26: 1 | G26: 4 | H26: 4
A27: 175 | B27: IMSP SPITALUL RAIONAL CAHUL | C27: Endoscop | D27: Colonoscop Fujifilm EC 590 ZW3 | E27: 2015 | F27: 1 | G27: 4 | H27: 4
A28: 173.1 | B28: IMSP SPITALUL RAIONAL CAHUL | C28: Endoscop | D28: Gastroscop Olympus GIF-H170 | E28: 2015 | F28: 1 | G28: 4 | H28: 4
A29: 173.2 | B29: IMSP SPITALUL RAIONAL CAHUL | C29: Endoscop | D29: Bronhoscop-Olympus | E29: 2015 | F29: 1 | G29: 4 | H29: 4
A30: 176 | B30: IMSP SPITALUL RAIONAL SANGEREI | C30: Endoscop | D30: BOWA TONTORA; Germania | E30: 2022 | F30: 1 | G30: 1 | H30: 1
F31: =SUBTOTAL(109,'25 Endoscoape'!$F$2:$F$30) -> 50 | H31: =SUBTOTAL(109,'25 Endoscoape'!$H$2:$H$30) -> 135

Sheet 26 Masa operatie
B1: Source.Name | C1: Dispozitivul Medical | D1: Modelul și producătorul DM | E1: Anul de fabricare a DM | F1: Cantitatea Dispozitivelor | G1: Numărul de vizite per an
A2: 177 | B2: IMSP INSTITUTUL DE PNEUMOLOGIE CHIRIL DRAGANIUC | C2: Masă de operație | D2: MERKUR, Germania | E2: 2006 | F2: 1 | G2: 1

Sheet 27 Alte
B1: Beneficiar | C1: Dispozitivul Medical | D1: Modelul și producătorul DM | E1: Anul de fabricare a DM | F1: Cantitatea Dispozitivelor | G1: Numărul de vizite per an | H1: Numărul Total de vizite per An
A2: 179 | B2: IMSP ASOCIATIA MEDICALA TERITORIALA BUIUCANI | C2: Masina de spalat endoscoape | D2: Olympus ETD-2 Producator Olympus Medical Systems, Japonia | E2: 2015 | F2: 1 | G2: 2 | H2: 2
A3: 178.1 | B3: IMSP INSTITUTUL DE CARDIOLOGIE | C3: Aparat incălzire racire | D3: HC 3T | E3: 2019 | F3: 1 | G3: 4 | H3: 4
A4: 180 | B4: IMSP INSTITUTUL DE CARDIOLOGIE | C4: Aparat pentru managementul sistemului de hemostaza | D4: HMS Plus Medtronic SUA | E4: 2018 | F4: 1 | G4: 2 | H4: 2
A5: 178.2 | B5: IMSP INSTITUTUL DE CARDIOLOGIE | C5: mașina de spălat instrumente | D5: DC600 STELCO | E5: 2019 | F5: 1 | G5: 4 | H5: 4
A6: 181 | B6: IMSP SPITALUL CLINIC MUNICIPAL SFANTUL ARHANGHEL MIHAIL | C6: Mașină de spălat instrumentar chirurgical | D6: Melatherm 10, Melag, Germania | E6: 2012 | F6: 1 | G6: 2 | H6: 2
A7: 178.3 | B7: IMSP INSTITUTUL MAMEI SI COPILULUI | C7: Masina de spalat endoscoape | D7: Olympus ETD4 | E7: 2014 | F7: 3 | G7: 12 | H7: 36
A8: 182 | B8: IMSP INSTITUTUL MAMEI SI COPILULUI | C8: Dulap de uscare a endoscoapelor | D8: Cantel Medical, Endoscope Storage Cabinet | F8: 1 | G8: 1 | H8: 1
A9: 183 | B9: IMSP INSTITUTUL DE PNEUMOLOGIE CHIRIL DRAGANIUC | D9: ST 700, Polonia | E9: 2020 | F9: 1 | G9: 4 | H9: 4
A10: 184 | B10: IMSP INSTITUTUL DE PNEUMOLOGIE CHIRIL DRAGANIUC | D10: ZT-1125M, Rusia | E10: 2019 | F10: 2 | G10: 4 | H10: 8
A11: 185 | B11: IMSP INSTITUTUL DE PNEUMOLOGIE CHIRIL DRAGANIUC | C11: Reprocesor automat pentru endoscoape | D11: Med-Isa | E11: 2023 | F11: 1 | G11: 2 | H11: 2
A12: 216 | B12: IMSP SPITALUL RAIONAL CAHUL | C12: Lampă de operație | D12: Merivaara X3 | F12: 2 | G12: 4 | H12: 8
A13: 217 | B13: IMSP SPITALUL RAIONAL CAHUL | C13: Lampă de fototerapie | D13: GE Lullaby | F13: 2 | G13: 4 | H13: 8
A14: 178.4 | B14: IMSP INSTITUTUL DE CARDIOLOGIE | C14: Pompa circulatie extracorporala | D14: Stockert S5 | E14: 2019 | F14: 1 | G14: 4 | H14: 4
F15: =SUBTOTAL(109,'27 Alte'!$F$2:$F$14) -> 18 | H15: =SUBTOTAL(109,'27 Alte'!$H$2:$H$14) -> 85

Sheet 28 Statie O2
B1: Column1 | C1: Modelul și producătorul DM | D1: Anul de fabricare a DM | E1: Cantitatea Dispozitivelor | F1: Numărul de vizite per an | G1: Numărul Total de vizite per An | H1: Cerințe/ Caiet de Sarcini
A2: 186.1 | B2: IMSP INSTITUTUL DE CARDIOLOGIE | C2: OGP 23 PM 4000H, Atlas Copco, Belgia | D2: 2020 | E2: 1 | F2: 6 | G2: 6 | H2: Mentenanţa lunară conform manualului de deservire a generatorului. Timpul de intervenţie în caz de defect până la 12 ore Timpul înlăturării defectelor nu va fi mai mare de 48 ore. Certificat de studii de la producatorii Atlas Copco. Certificat de la producător privind eliberarea cheilor de acces în sistemul electronic de comandă a generatorului de oxigen. Piese: Pentru compresorul ZT 30 - Kit service PM (C)– 1 set. Kit service Rurja EWD330M- 1 set. Ulei ROTO-Z (20 L) - 1 buc.Pentru uscator FD 140 VSD - Kit 16000 H -1set Pentru linia de filtrare :- Kit service PDp130+ Automatic drain kit – 1 set- Kit service PDp 20+ Automatic drain kit - 1 setKit service EWD 50- 1 setPentru Generatorul O23 – Kit 16 000 H – 1 set.
A3: 187 | B3: IMSP SPITALUL CLINIC MUNICIPAL GHEORGHE PALADI | C3: POC8300-MED, Inmatec, Germania compresor de aer (ASD60/12bar, Kaeser, Germania), uscător de aer (ACT 55, Friulair, Italia), sistem de filtrare aer (NEA 2265MAX2+NEA 242 SMA+NEA340RD), rezervor de aer 2000L (212 Vertical, Sicctech, Italia), rezervor de oxigen 1000L (212 HP Vertical), panou electric | D3: 2021 | E3: 1 | F3: 6 | G3: 6 | H3: Mentenanță preventivă și corectivă. Calibrare. Testare
A4: 187 | B4: IMSP SPITALUL RAIONAL ANENII NOI | C4: POC-8300MED, Inmatec, Germania | D4: 2021 | E4: 1 | F4: 4 | G4: 4
A5: 186.2 | B5: IMSP INSTITUTUL MAMEI SI COPILULUI | C5: IMT-PO 3450 0V, Inmatec | D5: 2013 | E5: 1 | F5: 4 | G5: 4 | H5: Kit de mentenanță de 2000 ore Compresor Bottarini KS 97 4 buc Înlocuire cartuș filtru de ulei Înlocuire filtru de aspirare Înlocuire filtru de separare de ulei Înlocuire garnitură pentru filtru de separare de ulei Înlocuirea valvei termostatice, 71 ºC Înlocuire kit de mentenanță pentru valva de presiune minimă Înlocuire mufă de alamă pentru scurgerea uleiului de ½” Înlocuire cartuș pentru filtru F070W Înlocuire ulei 40 l Verificarea punctului de rouă cu dispozitiv etalon, temperatura, presiunea și umniditatea la ieșirea rezervorului de oxigen Cerințe față furnizor Toate lucrările vor fi efectuate sub supravegherea inginerului local Da La finalul lucrărilor se va emite un raport de efectuare a lucrărilor cu indicarea tuturor lucrărilor efectuate și a valorilor măsurate la etapa verificării punctului de rouă, temperatura, presiunea și umniditatea l1221a ieșirea rezervorului de oxigen. Se va indica concentratia maximă de oxigen generata la 10 m3/h, 20 m3/h, 30 m3/h. Da Lucrările de mentenanță vor fi înscrise în jurnalul de gardă Da Certificat de intrawire a inginerului pentru compresoare cu șurub și stație de generare a oxigenului Inmatec Da Certificat de testare a dispozitivului etalon de verificare a punctului de rouă Da
A6: 186.3 | B6: IMSP INSTITUTUL MAMEI SI COPILULUI | C6: IMT-POC 8600 med, Inmatec | D6: 2022 | E6: 1 | F6: 2 | G6: 2 | H6: Instalarea kitului de mentenanta de 4000 de ore si 8000 de ore Instalarea kitului filtrului de aer pentru compresor Atlas Copco GA75VSD+ 1 Bucată Înlocuirea filtrului de aer 2 Bucată Înlocuirea filtrului din plasă metalică 2 Bucată Instalarea kitului termostatului de 40 °C 1 Bucată Înlocuirea uleiului 60 L Înlocuirea filtrului separator de ulei din cartușul UN310+ 2 Bucată Înlocuirea filtrului de cărbune din cartușul QDT245+ 2 Bucată Kitul de 8000 de ore (compus din filtrul de aer 1 buc, kitul liniei de curățare 1 buc, kitul valvei de presiune minimă, kitul filtrului de ulei) 1 Bucată Instalarea kitului Weater Drin 4 Bucată Verificarea punctului de rouă cu dispozitiv etalon, temperatura, presiunea și umniditatea la ieșirea rezervorului de oxigen 2 Bucată Cerințe față furnizor Toate lucrările vor fi efectuate sub supravegherea inginerului local Da La finalul lucrărilor se va emite un raport de efectuare a lucrărilor cu indicarea tuturor lucrărilor efectuate și a valorilor măsurate la etapa verificării punctului de rouă, temperatura, presiunea și umniditatea la ieșirea rezervorului de oxigen. Se va indica concentratia maximă de oxigen generata la 10 m3/h, 20 m3/h, 30 m3/h, 40 m3/h, 54 m3/h. Da Lucrările de mentenanță vor fi înscrise în jurnalul de gardă Da Certificat de instruire a inginerului pentru compresoare cu șurub și stație de generare a oxigenului Inmatec Da Certificat de testare a dispozitivului etalon de verificare a punctului de rouă Da
A7: 218 | B7: IMSP SPITALUL RAIONAL CAHUL | C7: 1. IMT-POC 8300-MED, Inmatec - 1 buc. 2.Compesor de aer ASD60/12 bar - 1 buc. 3.Generator de oxigen Sumer OxyFresh 200-2023/020 - 1 buc. 4.Compresor de aer Kaiser SK 25 - 1 buc. | E7: 1 | F7: 4 | G7: 4 | H7: Instalarea kitului de mentenanta de 4000 de ore si 8000 de ore Instalarea kitului filtrului de aer pentru compresor Atlas Copco GA75VSD+ 1 Bucată Înlocuirea filtrului de aer 2 Bucată Înlocuirea filtrului din plasă metalică 2 Bucată Instalarea kitului termostatului de 40 °C 1 Bucată Înlocuirea uleiului 60 L Înlocuirea filtrului separator de ulei din cartușul UN310+ 2 Bucată Înlocuirea filtrului de cărbune din cartușul QDT245+ 2 Bucată Kitul de 8000 de ore (compus din filtrul de aer 1 buc, kitul liniei de curățare 1 buc, kitul valvei de presiune minimă, kitul filtrului de ulei) 1 Bucată Instalarea kitului Weater Drin 4 Bucată Verificarea punctului de rouă cu dispozitiv etalon, temperatura, presiunea și umniditatea la ieșirea rezervorului de oxigen 2 Bucată Cerințe față furnizor Toate lucrările vor fi efectuate sub supravegherea inginerului local Da La finalul lucrărilor se va emite un raport de efectuare a lucrărilor cu indicarea tuturor lucrărilor efectuate și a valorilor măsurate la etapa verificării punctului de rouă, temperatura, presiunea și umniditatea la ieșirea rezervorului de oxigen. Se va indica concentratia maximă de oxigen generata la 10 m3/h, 20 m3/h, 30 m3/h, 40 m3/h, 54 m3/h. Da Lucrările de mentenanță vor fi înscrise în jurnalul de gardă Da Certificat de instruire a inginerului pentru compresoare cu șurub și stație de generare a oxigenului Inmatec Da Certificat de testare a dispozitivului etalon de verificare a punctului de rouă Da
A8: 189 | B8: IMSP INSTITUTUL DE CARDIOLOGIE | C8: IMT-PO 2150 OV, Inmatec | D8: 2012 | E8: 1 | F8: 6 | G8: 6 | H8: Mentenanţa 2 ori pe an conform manualului de deservire a generatorului. Timpul de intervenţie în caz de defect până la 12 ore Timpul înlăturării defectelor nu va fi mai mare de 48 ore. Certificat de studii de la producatorii Inmatech si Botarine. Certificat de la producător privind eliberarea cheilor de acces în sistemul electronic de comandă a generatorului de oxigen.
A9: 190 | B9: IMSP SPITALUL CLINIC MUNICIPAL SFANTA TREIME | C9: IMT-POC 8600 med, Inmatec, compresor GA 75 VSD, uscator Atlas Copco, condiționer, alte componente ale stației | D9: 2021 | E9: 1 | F9: 6 | G9: 6 | H9: Mentenanta, calibrare, testare, reparație în cazul defecțiunilor neprevăzute
A10: 191 | B10: IMSP SPITALUL CLINIC DE TRAUMATOLOGIE SI ORTOPEDIE | C10: MO2CSS 20C6-3:1x16 Nm3/h(SN:2213300881) (G.Samaras SA), Compresor de aer Model ASD60/12 bar, (Kaeser (Germania), Uscator de Aer Model ACT 55 (Friulair (Italia), Sistemul de filtrare aer,Rezervor de Aer 1000L | D10: 2022 | E10: 1 | F10: 4 | G10: 4 | H10: Generator de oxigen: verificări - conexiunile cu flanșă și îmbinările de îmbinare/înșuruburi sunt strânse și etanșate, scurgerii pe întregul sistem de filtrare, a plutitoarelor, a întregului generator. Examinarea procesării și calității aerului comprimat. Măsurarea purității O2, a punctului de rouă sub presiune și a presiunii, a racordurilor de gaz pentru etanșeitate, a ieșirii O2 pentru debitul de refulare, elementelor de comutare și control pneumatice, a controlul întregului sistem electric pentru funcționare. Reglarea controlului presiunii de admisie, a supapelor de reglare a gazului. Măsurarea presiunii la intrare și la ieșire pe generator Calibrarea debitului de admisie a aerului și a debitului de oxigen. Testarea și calibrarea purității O2, Testarea și reglarea alimentării cu O2.Testul funcțional al generatorului de oxigen conform ISO 10083. Verificare soft cu suportul Samaras. Compresor de aer:-Verificarea cuplajului elastic, a scurgerilor de ulei, verificarea termostatului electronic ETC, curatarea compresorului si radiatorului. Demontarea/curatarea/Ungerea supapelor Admisie, Presiune si Sens. Verificarea si resetarea SIGMA Control. Verificarea si ajustarea tensiunei de intrare in compresor . Uscator de Aer: Verificari: strângerea tuturor șuruburilor sistemului electric, a circuitul frigorific pentru semne de scurgere de ulei şi agent frigorific. Măsurarea amperajului. Verificari dacă citirile se încadrează în parametrii acceptabili ca enumerate în tabelul cu specificații. Inspectarea furtunurilor flexibile și la necesitate înlocuite. Verificarea funcționarii mașinii. Condensatorul se curata. Sistemul de filtrare aer: Schimbare carbune activ și Indicatorul de ulei. Mentenanta purja automata. Rezervor de Aer: Verificare scurgeri. Verificare panou electric, testare releu electric la compatibilitatea cu generatorul electric.
A11: 192 | B11: IMSP SPITALUL CLINIC MUNICIPAL DE COPII NR 1 | C11: Oxyfresh 200, Sumer, Turcia | D11: 2023 | E11: 1 | F11: 1 | G11: 1 | H11: 1.Generator de oxigen: Schimbare elemente filtrante. Verificarea conexiunilor cu flanșă și îmbinărilor de îmbinare/înșuruburi ca sunt strânse și etanșate. Efectuare un test de scurgere. Verificarea scurgerii pe întregul sistem de filtrare. Inspecția plutitoarelor pentru funcționarea corectă Verificarea vizuală a întregului generator Examinarea procesării aerului comprimat Examinarea calității aerului comprimat Verificarea unității de analiză O2 Măsurarea purității O2, a punctului de rouă sub presiune și a presiunii Verificarea racordurilor de gaz pentru etanșeitate Verificarea ieșirii O2 pentru debitul de refulare Verificarea elementelor de comutare și control pneumatice Controlul întregului sistem electric pentru funcționare Verificarea conexiunilor electrice Verificarea etanșeității dispozitivului de evacuare a condensului Reglarea controlului presiunii de admisie Verificarea și reglarea supapelor de reglare a gazului Măsurarea presiunii la intrare și la ieșire pe generator Calibrarea debitului de admisie a aerului și a debitului de oxigen Testarea și calibrarea purității O2 Testarea și reglarea alimentării cu O2 Testul funcțional al generatorului de oxigen conform ISO 10083. Verificare soft. 2.Compresor de aer Model SK25/11 bar Kaeser Germania: -Schimbarea kitului de mentenanta dupa perioada de 3 ani de utilizare Alte Lucrari: -Gresarea rulmentilor -Verificarea cuplajului elastic -Verificarea scurgerilor de ulei -verificarea termostatului electronic ETC -curatarea compresorului si radiatorului -Demontarea/curatarea/Ungerea supapelor Admisie, Presiune si Sens. -Resetarea orelor de mentenanta -Verificarea si resetarea SIGMA Control -Verificarea si ajustarea tensiunei de intrare in compresor (inclusiv a releului de supracurent). 3. Uscator de aer SMC IDFA60-23: 1)Masina curatata: • Verificare si strângerea tuturor șuruburilor sistemului electric și dacă toate „Deconectarea-File” conexiunile de tip sunt în poziția lor corectă, inspectați unitatea pentru fire rupte, crăpate sau goale. • Verificare circuitului frigorific pentru semne de scurgere de ulei şi agent frigorific. • Măsurare și înregistrarea amperajului. Verificare dacă citirile se încadrează în parametrii acceptabili ca enumerate în tabelul cu specificații. • Inspectarea furtunurilor flexibile și înlocuirea lor dacă este necesar. • Verificarea funcționarii uscatorului. - Condensatorul: Desfacere/Curatare 4. Verificare panou electric 5. Schimbarea cartusurilor sistemului de filtrare: 1. WSA25.OT; 2.E260G+G01; 3.MHA-260/H; 4.MHA-260/C; 5. E260DS; 6. MHA-65/D; 7. MHA-65/DS. 6.Verificare scurgeri Butelie de aer si Butelie de Oxigen
A12: 192 | B12: IMSP SPITALUL CLINIC MUNICIPAL GHEORGHE PALADI | C12: OxyFresh 200, Sumer, Turcia compresor de aer (SK25/11bar, Kaeser, Germania), uscător de aer (iDFA-60 (SMS/Japonia)), sistem de filtrare aer (MHA-260/G+GO1; MHA-260/H;MHA-260/DS (antibacterial)), rezervor de aer 500L (AVT500/11 bar, purja automată RD5001615G), rezervor de oxigen AISI304500L (AVT500/11bar, SUMER, tURCIA), sensor de oxigen (OX-600, RKI, Japonia), sistem de fitrare antibacterian (MHA-65/D+MHA-65/DS), rampa cu butelii de rezervă (PF-5121-00O2, MD-SRL Italia), detector de fum cu alarmă (X-Sense), condiționer (Boche), filtru de admisie a aerului în container (Class G-3-G4, Summer, Turcia), sistem de drenare pentru evacuarea condensului din compresor și uscător (Sumer, Turcia), panou electric | D12: 2023 | E12: 1 | F12: 6 | G12: 6 | H12: Mentenanță preventivă și corectivă. Calibrare. Testare
A13: 193 | B13: IMSP SPITALUL CLINIC MUNICIPAL SFANTA TREIME | C13: Atlas Copco OGP45, cu compresor Ga 55 VSD, uscător Atlas Copco, condiționer și alte compenente ale stației | D13: 2019 | E13: 1 | F13: 6 | G13: 6 | H13: Mentenanta, calibrare, testare, reparație în cazul defecțiunilor neprevăzute
A14: 194 | B14: IMSP SPITALUL CLINIC MUNICIPAL SFANTUL ARHANGHEL MIHAIL | C14: Atlas Copco GA 75 | D14: 2021 | E14: 1 | F14: 12 | G14: 12 | H14: Verificarea funcționalității sistemului în ansamblu – lunar; Verificarea de scurgeri de gaze – lunar; Verificarea de scurgeri de ulei – lunar; Verificarea de erori de sistem – lunar; Resetarea erorilor – lunar; O vizită neplanificată în caz de urgențe – minim una pe lună; Schimbarea kitului de mentenanță – semestrial; Spălarea mecanică a sistemului în ansamblu – semestrial.
A15: 188 | B15: IMSP SPITALUL RAIONAL FALESTI | C15: IM-GO 200, Ideal Makina, Turcia | D15: 2023 | E15: 1 | F15: 1 | G15: 1
A16: 188 | B16: IMSP SPITALUL RAIONAL SANGEREI | C16: IM-GO 200, Ideal Makina, Turcia | D16: 2023 | E16: 1 | F16: 2 | G16: 2 | H16: Lucrari de mentenanta preventiva (ajustari,calibrari,lubrifieri,schimbarea chitului)conform recomandarilor prevazute de producator pentru buna functionare a dispoz. Interventia inginerului in cazul unor defectiuni neprevazute si inlaturarea defectelor
A17: 188 | B17: IMSP SPITALUL RAIONAL NISPORENI | C17: IM-GO 200, Ideal Makina, Turcia | D17: 2022 | E17: 1 | F17: 4 | G17: 4
A18: 188 | B18: IMSP SPITALUL RAIONAL CIMISLIA | C18: IM-GO 200, Ideal Makina, Turcia | D18: 2023 | E18: 1 | F18: 5 | G18: 5 | H18: - Dezasamblarea aparatului; - Dezasamblarea și curățarea pompei de aspirare; - Curățarea valvelor și tuburilor; - Curățarea ungerea și ajustarea pompei de dispensare a lichidului; - Asamblarea aparatului; - Verificarea funcționării aparatului în ansamblu; - Reparația aparatului în caz de defecțiune (fără costul pieselor);
A19: 195 | B19: IMSP INSTITUTUL ONCOLOGIC | C19: IM-GO 400, Ideal Makina, Turcia | D19: 2024 | E19: 1 | F19: 4 | G19: 4
A20: 196 | B20: IMSP INSTITUTUL DE CARDIOLOGIE | C20: Renner SL-S 7,5 Renner Kompressoren Germania | D20: 2019 | E20: 1 | F20: 2 | G20: 2 | H20: Mentenanţa anuală conform manualului de deservire a compresorului. Piese:Filtru 14740 (1C486714-00) pentru sistemul de filtrare RF-T 0050.Filtru P-SRFC (1C224016).Filtru de aer pentru compresorul de aer Renner SL-S 7,5.
A21: 197 | B21: IMSP INSTITUTUL MAMEI SI COPILULUI | C21: BOGE S 20-2 | D21: 2013 | E21: 1 | F21: 2 | G21: 2 | H21: Înlocuirea kitului de mentenanță pentru 9000 de ore pentru compresorul de aer cu șurub BOGE S 20-2 2 buc Înlocuirea kitului de mentenanță pentru purja de condens KA32SC0L0 2 buc Filtru element pentru cartuș 030AA separator de ulei, rata de filtrare 0.01µm, eficiența de filtrare 0.01mg/m3 2 buc Filtru element steril pentru cartuș VBA-9B-BE 2 buc Curățirea și lubrifierea filtrului ciclonic de model WS030EBFX. 2 buc Înlocuirea filtrului panou 6 buc Înlocuirea filtrului de particule, vapori și vapori de ulei pentru cartuș 020ACS, eficiența de filtrare 0.003 mg/m3 2 buc Înlocuirea filtrului de particule și vapori și vapori de ulei pentru cartuș 030AR, rata de filtrare 1µm 2 buc Înlocuirea uleiului 10 L 2 buc Verificarea punctului de rouă cu dispozitiv etalon, temperatura, presiunea și umiditatea la ieșirea rezervorului de aer comprimat Cerințe față furnizor Toate lucrările vor fi efectuate sub supravegherea inginerului local La finalul lucrărilor se va emite un raport de efectuare a lucrărilor cu indicarea tuturor lucrărilor efectuate și a valorilor măsurate Lucrările de mentenanță vor fi înscrise în jurnalul de gardă Certificat de instruire a inginerului pentru compresoare cu șurub Certificat de testare a dispozitivului etalon de verificare a punctului de rouă
A22: 198 | B22: IMSP INSTITUTUL MAMEI SI COPILULUI | C22: Dalgakiran Dryair DK 15-D | D22: 2024 | E22: 1 | F22: 4 | G22: 4 | H22: Inlocuirea chitului de mentenanta de 2500 ore Schimbarea Suction filter element 4 buc Schimbarea Prefiltru 1 m2 Schimbarea Silencer 2 buc Schimbarea Check-valve 2 buc Schimbarea Check-valve 2 buc Schimbarea V-belt 4 buc Schimbarea Solenoid 2 buc Schimbarea LINE FILTER ELEMENT 1 buc Schimbarea LINE FILTER ELEMENT 1 buc Schimbarea FILTER ELEMENT MO 150 A 1 buc Schimbarea FILTER ELEMENT M 150 MSS 1 buc Schimbarea FILTER ELEMENT MO 25 A 1 buc Schimbarea FILTER ELEMENT M 25 MSS 1 buc Verificarea punctului de rouă cu dispozitiv etalon, temperatura, presiunea și umiditatea la ieșirea rezervorului de aer comprimat Cerințe față furnizor Toate lucrările vor fi efectuate sub supravegherea inginerului local La finalul lucrărilor se va emite un raport de efectuare a lucrărilor cu indicarea tuturor lucrărilor efectuate și a valorilor măsurate Lucrările de mentenanță vor fi înscrise în jurnalul de gardă Certificat de instruire a inginerului pentru compresor Certificat de testare a dispozitivului etalon de verificare a punctului de rouă
E23: =SUM(E2:E22) -> 21 | G23: =SUBTOTAL(109,'28 Statie O2'!$G$2:$G$22) -> 91
