Workbook

Sheet CalcSTI
A1: Производственная программа по созданию оптимальных условий деятельности Центральных служб в 2023 году. Затраты СИТ.
A2: № | B2: Denumirea | C2: Un. măs. | D2: Preț estimativ lei fără TVA | E2: Cantitatea
E3: Aparatul central | F3: Baza de producere | G3: Centrul de instruire | H3: RETI Centru | I3: RETI SUD | J3: RETI Nord | K3: RETI Nord-Vest | L3: Total | M3: Total, lei | N3: Aparatul central | O3: Centrul de instruire | P3: RETI Centru | Q3: RETI SUD | R3: RETI Nord | S3: RETI Nord-Vest
A4: LOT №1 (Set componentelor pentru PC)
A5: 1 | B5: SSD - .M.2 NVMe 128GB R/W:1500/550MB/s, 95/130K IOPS, 50TBW, 3DTLC | C5: buc. | D5: 360 | E5: 20 | L5: =SUM(E5:K5) -> 20 | M5: =D5*L5 -> 7200 | N5: =D5*E5 -> 7200 | O5: =D5*G5 -> 0 | P5: =D5*H5 -> 0 | Q5: =D5*I5 -> 0 | R5: =D5*J5 -> 0 | S5: =D5*K5 -> 0
B6: RAM - 8GB DDR4- 3200MHz PC25600 | C6: buc. | D6: =500*0.8 -> 400 | E6: 20 | L6: =SUM(E6:K6) -> 20 | M6: =D6*L6 -> 8000 | N6: =D6*E6 -> 8000 | O6: =D6*G6 -> 0 | P6: =D6*H6 -> 0 | Q6: =D6*I6 -> 0 | R6: =D6*J6 -> 0 | S6: =D6*K6 -> 0
B7: CPU - 4 nuclee, 8 fire, Freqvența 3.7-4.4GHz (minimum), 6MB Cache, procesor grafic integrat | C7: buc. | D7: 2745 | E7: 20 | L7: =SUM(E7:K7) -> 20 | M7: =D7*L7 -> 54900 | N7: =D7*E7 -> 54900 | O7: =D7*G7 -> 0 | P7: =D7*H7 -> 0 | Q7: =D7*I7 -> 0 | R7: =D7*J7 -> 0 | S7: =D7*K7 -> 0
B8: Placa de baza compatibila cu procesor din acest set Interfață: USB 3.1 Gen 1, Conector tip: USB Type-A Memory support DDR4 2933/2666/2400/2133 MHz memory modules GbE LAN chip (1000/100 Mbit) 1 x PCI Express x16 slot, running at x16, 2 x PCI Express x1 slot 1 x M.2 connector (Socket 3, M key, type 2242/2260/2280 SATA and PCIe x4/x2 SSD support) 4 x SATA 6Gb/s connectors Support for RAID 0, RAID 1, RAID 5, and RAID 10 4 x USB 3.2 Gen 1 ports (2 ports on the back panel, 2 ports available through the internal USB header) 6 x USB 2.0/1.1 ports (4 ports on the back panel, 2 ports available through the internal USB header)/s, Protecție antișoc | C8: buc. | D8: 1650 | E8: 20 | L8: =SUM(E8:K8) -> 20 | M8: =D8*L8 -> 33000 | N8: =D8*E8 -> 33000 | O8: =D8*G8 -> 0 | P8: =D8*H8 -> 0 | Q8: =D8*I8 -> 0 | R8: =D8*J8 -> 0 | S8: =D8*K8 -> 0
A9: 2 | B9: Keyboard pentru business, USB, dimensiuni 155x450x23.5 mm, lungimea cablului 150 cm, profil subțire, tastare silențioasă, rezistent la scurgeri, brand international | C9: buc. | D9: 170 | E9: 20 | L9: =SUM(E9:K9) -> 20 | M9: =D9*L9 -> 3400 | N9: =D9*E9 -> 3400 | O9: =D9*G9 -> 0 | P9: =D9*H9 -> 0 | Q9: =D9*I9 -> 0 | R9: =D9*J9 -> 0 | S9: =D9*K9 -> 0
A10: 3 | B10: Mouse cu cablu - optical, 3 butoane, dimensiun 113x62x38 mm, greutatea 90 g, lungimea cablului 180 cm, rezolutie 1000 dpi, culoare negru, USB, brand international | C10: buc. | D10: 110 | E10: 20 | L10: =SUM(E10:K10) -> 20 | M10: =D10*L10 -> 2200 | N10: =D10*E10 -> 2200 | O10: =D10*G10 -> 0 | P10: =D10*H10 -> 0 | Q10: =D10*I10 -> 0 | R10: =D10*J10 -> 0 | S10: =D10*K10 -> 0
A11: 4 | B11: Carcasă externă pentru drives M2 22 mm, suport: tipuri de ME: 2230, 2242, 2262, 2280, interfate SATA and NVMe; cheie: M-, B-, M+B | C11: buc. | D11: 600 | E11: 3 | L11: =SUM(E11:K11) -> 3 | M11: =D11*L11 -> 1800 | N11: =D11*E11 -> 1800 | O11: =D11*G11 -> 0 | P11: =D11*H11 -> 0 | Q11: =D11*I11 -> 0 | R11: =D11*J11 -> 0 | S11: =D11*K11 -> 0
A13: LOT №2 (Monitoare)
A14: 1 | B14: Dimensiunea ecranului: minimum 23.8" Rezolutia: FullHD 1920x1080 Parametrii ecranului: 75Hz, 4ms, 250cd, 200M:1, 16:9 Interfaţe: HDMI, DisplayPort, D-Sub, Audio-In, Audio-Out Difuzoare: Difuzoarele trebuie sa fie încorporate | C14: buc. | D14: 2745 | E14: 20 | L14: =SUM(E14:K14) -> 20 | M14: =D14*L14 -> 54900 | N14: =D14*E14 -> 54900 | O14: =D14*G14 -> 0 | P14: =D14*H14 -> 0 | Q14: =D14*I14 -> 0 | R14: =D14*J14 -> 0 | S14: =D14*K14 -> 0
A15: 2 | B15: Dimensiunea ecranului: minimum 23.8" Rezolutia: FullHD 1920x1080. Parametrii ecranului: 75Hz, 5ms, 250cd, 1000:1, 16:9 Interfaţe: HDMI+DP+USB+TypeC+LAN (USB-C Hub), Suport reglabil | C15: buc. | D15: 6400 | E15: 6 | L15: =SUM(E15:K15) -> 6 | M15: =D15*L15 -> 38400 | N15: =D15*E15 -> 38400 | O15: =D15*G15 -> 0 | P15: =D15*H15 -> 0 | Q15: =D15*I15 -> 0 | R15: =D15*J15 -> 0 | S15: =D15*K15 -> 0
N16: =D16*E16 -> 0 | O16: =D16*G16 -> 0 | P16: =D16*H16 -> 0 | Q16: =D16*I16 -> 0 | R16: =D16*J16 -> 0 | S16: =D16*K16 -> 0
A17: LOT №3 (Mikrotik-compatible devices) | M17: =D17*L17 -> 0 | N17: =D17*E17 -> 0 | O17: =D17*G17 -> 0 | P17: =D17*H17 -> 0 | Q17: =D17*I17 -> 0 | R17: =D17*J17 -> 0 | S17: =D17*K17 -> 0
A18: 1 | B18: Dispozitiv compatibil cu Miktorik CAPSMAN protocol, 1 10/100 Mbps PoE-IN port, CPU 600 MHz, RAM 64 MB, stocare 16 MB, WiFi 5GHz 802.11a/n, antena incorporata, posibilitatea de a organiza comunicații punct-la-punct la o distanță de până la 12 km | C18: buc. | D18: 900 | K18: 2 | L18: =SUM(E18:K18) -> 2 | M18: =D18*L18 -> 1800 | N18: =D18*E18 -> 0 | O18: =D18*G18 -> 0 | P18: =D18*H18 -> 0 | Q18: =D18*I18 -> 0 | R18: =D18*J18 -> 0 | S18: =D18*K18 -> 1800
A28: LOT №4 ( MFD) | N28: =D28*E28 -> 0 | O28: =D28*G28 -> 0 | P28: =D28*H28 -> 0 | Q28: =D28*I28 -> 0 | R28: =D28*J28 -> 0 | S28: =D28*K28 -> 0
A29: 1 | B29: Viteză de imprimare: Pe o faţă: până la 38 ppm (A4) Metodă de imprimare: Imprimare monocrom cu laser Mod de imprimare: pe o singură față și față-verso (duplex) Mod de scanare: sistem ADF, singură față și față-verso (duplex), mod de copiere: singură față și față-verso (duplex) Rezoluţie de imprimare: Până la 1200 x 1200 dpi. Rezoluţie de copiere: Până la 600 x 600 dpi Timp de încălzire: Aprox. 14 secunde sau mai puţin de la pornire. Timp de ieşire a primei pagini: Aprox. 5,5 secunde sau mai puţin. Volum lunar de imprimare recomandat: 750 – 4.000 de pagini pe lună Alimentare cu hârtie (standard): Casetă pentru 250 de coli, Tavă universală pentru 100 de coli Viteza procesorului: 800 MHz x 2. Memorie: 1 GB Interfaţă şi conectivitate: USB 2.0 Hi-Speed, 10BASE-T/100BASE- | C29: buc. | D29: 11999 | E29: 8 | L29: =SUM(E29:K30) -> 8 | M29: =D29*L29 -> 95992 | N29: =D29*E29 -> 95992 | O29: =D29*G29 -> 0 | P29: =D29*H29 -> 0 | Q29: =D29*I29 -> 0 | R29: =D29*J29 -> 0 | S29: =D29*K29 -> 0
B30: Set de cartuș/cartușe pentru a imprima cel puțin 11.000 de pagini (conform specificațiilor cartuşelor) pe dispozitivul, propus in punct 1 al lotului curent | N30: =D30*E30 -> 0 | O30: =D30*G30 -> 0 | P30: =D30*H30 -> 0 | Q30: =D30*I30 -> 0 | R30: =D30*J30 -> 0 | S30: =D30*K30 -> 0
A31: 2 | B31: Imprimanta cu etichetă de bandă - tehnologia imprimarii: transfer termic, rezolutia 180 dpi, Lățimea suportului, 6/9/12/15 mm (diferite cartuse), înălţime simbolului pana la 9 mm, numarul de butoane - 61, tip - QWERTY, display 128x16 pixele, numarul de copii de etichete -1-9, funcționarea cu baterii AA și cu bloc de alimentare, cutie pentru depozitarea | C31: buc. | D31: 1600 | E31: 1 | L31: 1 | M31: 1600
L32: Total: | M32: =SUM(M4:M31) -> 303192 | N32: =SUM(N4:N30) -> 299792 | O32: =SUM(O4:O30) -> 0 | P32: =SUM(P4:P30) -> 0 | Q32: =SUM(Q4:Q30) -> 0 | R32: =SUM(R4:R30) -> 0 | S32: =SUM(S4:S30) -> 1800
M33: =M32+$L$52 -> 303192 | N33: =IF(E37<>0,N32+$L$52,N32) -> 299792 | O33: =IF(G37<>0,O32+$L$52,O32) -> 0 | P33: =IF(H37<>0,P32+$L$52,P32) -> 0 | Q33: =IF(I37<>0,Q32+$L$52,Q32) -> 0 | R33: =IF(J37<>0,R32+$L$52,R32) -> 0 | S33: =IF(K37<>0,S32+$L$52,S32) -> 1800
A35: Другие материалы, не вошедшие в данную таблицу, закупка которых необходима. (в первом столбце указание на ЛОТ, а не порядковый номер!!)
A36: ЛОТ | B36: Наименование | C36: buc | D36: цена | E36: Aparat | F36: Baza | G36: УЦ | H36: ЦФ | I36: ЮФ | J36: СФ | K36: СЗФ | L36: MDL
L37: =(SUM(E37:K37))*D37 -> 0
L38: =(SUM(E38:K38))*D38 -> 0
L39: =(SUM(E39:K39))*D39 -> 0
L40: =(SUM(E40:K40))*D40 -> 0
L41: =(SUM(E41:K41))*D41 -> 0
L42: =(SUM(E42:K42))*D42 -> 0
L43: =(SUM(E43:K43))*D43 -> 0
L44: =(SUM(E44:K44))*D44 -> 0
L45: =(SUM(E45:K45))*D45 -> 0
L46: =(SUM(E46:K46))*D46 -> 0
L47: =(SUM(E47:K47))*D47 -> 0
L48: =(SUM(E48:K48))*D48 -> 0
... L51: =(SUM(E51:K51))*D51 -> 0
K52: Total lei: | L52: =SUM(L37:L51) -> 0

Sheet toAchizitii
A1: Caiet de sarcini
A3: № | B3: Denumirea | C3: Un. măs. | D3: Cantitate | E3: Preț estimativ lei fără TVA | F3: Total, MDL | G3: Garantie minimala, luni
A5: =CalcSTI!A4 -> LOT №1 (Set componentelor pentru PC)
A6: 1 | B6: =CalcSTI!B5 -> SSD - .M.2 NVMe 128GB R/W:1500/550MB/s, 95/130K IOPS, 50TBW, 3DTLC | C6: buc. | D6: 20 | E6: =CalcSTI!#REF! -> #REF! | F6: =D6*E6 -> #REF! | G6: 36
B7: =CalcSTI!B6 -> RAM - 8GB DDR4- 3200MHz PC25600 | E7: =CalcSTI!#REF! -> #REF! | F7: =D7*E7 -> #REF!
B8: =CalcSTI!B7 -> CPU - 4 nuclee, 8 fire, Freqvența 3.7-4.4GHz (minimum), 6MB Cache, procesor grafic integrat | E8: =CalcSTI!D5 -> 360 | F8: =D8*E8 -> 0
B9: =CalcSTI!B8 -> Placa de baza compatibila cu procesor din acest set Interfață: USB 3.1 Gen 1, Conector tip: USB Type-A Memory support DDR4 2933/2666/2400/2133 MHz memory modules GbE LAN chip (1000/100 Mbit) 1 x PCI Express x16 slot, running at x16, 2 x PCI Express x1 slot 1 x M.2 connector (Socket 3, M key, type 2242/2260/2280 SATA and PCIe x4/x2 SSD support) 4 x SATA 6Gb/s connectors Support for RAID 0, RAID 1, RAID 5, and RAID 10 4 x USB 3.2 Gen 1 ports (2 ports on the back panel, 2 ports available through the internal USB header) 6 x USB 2.0/1.1 ports (4 ports on the back panel, 2 ports available through the internal USB header)/s, Protecție antișoc | E9: =CalcSTI!#REF! -> #REF! | F9: =D9*E9 -> #REF!
A10: 2 | B10: =CalcSTI!B9 -> Keyboard pentru business, USB, dimensiuni 155x450x23.5 mm, lungimea cablului 150 cm, profil subțire, tastare silențioasă, rezistent la scurgeri, brand international | C10: buc. | D10: =CalcSTI!L9 -> 20 | E10: =CalcSTI!#REF! -> #REF! | F10: =D10*E10 -> #REF! | G10: 24
A11: 3 | B11: =CalcSTI!B10 -> Mouse cu cablu - optical, 3 butoane, dimensiun 113x62x38 mm, greutatea 90 g, lungimea cablului 180 cm, rezolutie 1000 dpi, culoare negru, USB, brand international | C11: buc. | D11: =CalcSTI!L6 -> 20 | E11: =CalcSTI!D6 -> 400 | F11: =D11*E11 -> 8000 | G11: 24
A12: 4 | B12: =CalcSTI!B11 -> Carcasă externă pentru drives M2 22 mm, suport: tipuri de ME: 2230, 2242, 2262, 2280, interfate SATA and NVMe; cheie: M-, B-, M+B | C12: buc. | D12: 3 | E12: =CalcSTI!D7 -> 2745 | F12: =D12*E12 -> 8235 | G12: 24
A14: =CalcSTI!A13 -> LOT №2 (Monitoare)
A15: =CalcSTI!A14 -> 1 | B15: =CalcSTI!B14 -> Dimensiunea ecranului: minimum 23.8" Rezolutia: FullHD 1920x1080 Parametrii ecranului: 75Hz, 4ms, 250cd, 200M:1, 16:9 Interfaţe: HDMI, DisplayPort, D-Sub, Audio-In, Audio-Out Difuzoare: Difuzoarele trebuie sa fie încorporate | C15: buc. | D15: =CalcSTI!L10 -> 20 | E15: =CalcSTI!D10 -> 110 | F15: =D15*E15 -> 2200 | G15: 36
A16: =CalcSTI!A15 -> 2 | B16: =CalcSTI!B15 -> Dimensiunea ecranului: minimum 23.8" Rezolutia: FullHD 1920x1080. Parametrii ecranului: 75Hz, 5ms, 250cd, 1000:1, 16:9 Interfaţe: HDMI+DP+USB+TypeC+LAN (USB-C Hub), Suport reglabil | C16: buc. | D16: =CalcSTI!L11 -> 3 | E16: =CalcSTI!D11 -> 600 | F16: =D16*E16 -> 1800 | G16: 36
A18: =CalcSTI!A17 -> LOT №3 (Mikrotik-compatible devices)
A19: 1 | B19: =CalcSTI!B18 -> Dispozitiv compatibil cu Miktorik CAPSMAN protocol, 1 10/100 Mbps PoE-IN port, CPU 600 MHz, RAM 64 MB, stocare 16 MB, WiFi 5GHz 802.11a/n, antena incorporata, posibilitatea de a organiza comunicații punct-la-punct la o distanță de până la 12 km | C19: buc. | D19: =CalcSTI!L18 -> 2 | G19: 12
A22: =CalcSTI!A28 -> LOT №4 ( MFD)
A23: =CalcSTI!A29 -> 1 | B23: =CalcSTI!B29 -> Viteză de imprimare: Pe o faţă: până la 38 ppm (A4) Metodă de imprimare: Imprimare monocrom cu laser Mod de imprimare: pe o singură față și față-verso (duplex) Mod de scanare: sistem ADF, singură față și față-verso (duplex), mod de copiere: singură față și față-verso (duplex) Rezoluţie de imprimare: Până la 1200 x 1200 dpi. Rezoluţie de copiere: Până la 600 x 600 dpi Timp de încălzire: Aprox. 14 secunde sau mai puţin de la pornire. Timp de ieşire a primei pagini: Aprox. 5,5 secunde sau mai puţin. Volum lunar de imprimare recomandat: 750 – 4.000 de pagini pe lună Alimentare cu hârtie (standard): Casetă pentru 250 de coli, Tavă universală pentru 100 de coli Viteza procesorului: 800 MHz x 2. Memorie: 1 GB Interfaţă şi conectivitate: USB 2.0 Hi-Speed, 10BASE-T/100BASE- | C23: buc. | D23: =CalcSTI!L29 -> 8 | E23: =CalcSTI!D14 -> 2745 | F23: =D23*E23 -> 21960 | G23: 24
A24: 2 | B24: Imprimanta cu etichetă de bandă - tehnologia imprimarii: transfer termic, rezolutia 180 dpi, Lățimea suportului, 6/9/12/15 mm (diferite cartuse), înălţime simbolului pana la 9 mm, numarul de butoane - 61, tip - QWERTY, display 128x16 pixele, numarul de copii de etichete -1-9, funcționarea cu baterii AA și cu bloc de alimentare, cutie pentru depozitarea | C24: buc. | D24: 1 | G24: 24
A26: Se accepta propunerea bunurilor cu caracteristici echivalente sau mai performante.
A27: Propunerea bunurilor cu termenul de garatie mai scurt dacat scris in tabel posibila doar dupa acordul detinatorului si numai in caz lipsei marfii cu termenul de garatie cerut pe stoc
